Workbook

Sheet المرحلة الابتدائية بنين
D1: وزارة التربية | N1: العام الدراسي
D2: الإدارة العامة لمنطقة …………………... التعليمية
D3: مدرسة :
D4: الصف ( الأول ) | Z4: الفترة : .................
D5: الفترة : آخر العام
D6: م | E6: الصف | F6: الاجمالى | G6: فئات الدرجات | M6: عدد المتقدمين | N6: عدد الناجحين | O6: النسبة المئوية | P6: متقدم | Q6: الامتحان التحريري ( 30 ) | W6: عدد الناجحين | X6: النسبة المئوية | Y6: الدرجة النهائية ( 50 ) | AE6: عدد الناجحين | AF6: النسبة المئوية | AG6: غائب
Q7: ضعيف | R7: مقبول | S7: مقبول | T7: جيد | U7: جيدجدا | V7: ممتاز | Y7: ضعيف | Z7: مقبول | AA7: مقبول | AB7: جيد | AC7: جيدجدا | AD7: ممتاز
G8: 0 - 39.5 | H8: 40 - 49.5 | I8: 50 - 59.5 | J8: 60 - 74.5 | K8: 75 - 89.5 | L8: 90 - 100 | Q8: 0 - 14.5 | R8: 15 | S8: 15.5 - 20.5 | T8: 21 - 26.5 | U8: 27 - 29.5 | V8: 30 | Y8: 0 - 24.5 | Z8: 25 | AA8: 25.5 - 34.5 | AB8: 35 - 44.5 | AC8: 45 - 49.5 | AD8: 50
D9: 1 | M9: =SUM(G9:L9) -> 0 | N9: =SUM(H9:L9) -> 0 | O9: =N9/M9*100% -> #DIV/0! | P9: =SUM(Q9:V9) -> 0 | W9: =SUM(R9:V9) -> 0 | X9: =W9/#REF!*100% -> #REF! | AE9: =SUM(Z9:AD9) -> 0 | AF9: =AE9/#REF!*100% -> #REF! | AG9: =(F9-#REF!) -> #REF!
D10: 2 | M10: =SUM(G10:L10) -> 0 | N10: =SUM(H10:L10) -> 0 | O10: =N10/M10*100% -> #DIV/0! | P10: =SUM(Q10:V10) -> 0 | W10: =SUM(R10:V10) -> 0 | X10: =W10/#REF!*100% -> #REF! | AE10: =SUM(Z10:AD10) -> 0 | AF10: =AE10/#REF!*100% -> #REF! | AG10: =(F10-#REF!) -> #REF!
D11: 3 | M11: =SUM(G11:L11) -> 0 | N11: =SUM(H11:L11) -> 0 | O11: =N11/M11*100% -> #DIV/0! | P11: =SUM(Q11:V11) -> 0 | W11: =SUM(R11:V11) -> 0 | X11: =W11/#REF!*100% -> #REF! | AE11: =SUM(Z11:AD11) -> 0 | AF11: =AE11/#REF!*100% -> #REF! | AG11: =(F11-#REF!) -> #REF!
D12: 4 | M12: =SUM(G12:L12) -> 0 | N12: =SUM(H12:L12) -> 0 | O12: =N12/M12*100% -> #DIV/0! | P12: =SUM(Q12:V12) -> 0 | W12: =SUM(R12:V12) -> 0 | X12: =W12/#REF!*100% -> #REF! | AE12: =SUM(Z12:AD12) -> 0 | AF12: =AE12/#REF!*100% -> #REF! | AG12: =(F12-#REF!) -> #REF!
D13: 5 | M13: =SUM(G13:L13) -> 0 | N13: =SUM(H13:L13) -> 0 | O13: =N13/M13*100% -> #DIV/0! | P13: =SUM(Q13:V13) -> 0 | W13: =SUM(R13:V13) -> 0 | X13: =W13/#REF!*100% -> #REF! | AE13: =SUM(Z13:AD13) -> 0 | AF13: =AE13/#REF!*100% -> #REF! | AG13: =(F13-#REF!) -> #REF!
D14: 6 | M14: =SUM(G14:L14) -> 0 | N14: =SUM(H14:L14) -> 0 | O14: =N14/M14*100% -> #DIV/0! | P14: =SUM(Q14:V14) -> 0 | W14: =SUM(R14:V14) -> 0 | X14: =W14/#REF!*100% -> #REF! | AE14: =SUM(Z14:AD14) -> 0 | AF14: =AE14/#REF!*100% -> #REF! | AG14: =(F14-#REF!) -> #REF!
D15: 7 | M15: =SUM(G15:L15) -> 0 | N15: =SUM(H15:L15) -> 0 | O15: =N15/M15*100% -> #DIV/0! | P15: =SUM(Q15:V15) -> 0 | W15: =SUM(R15:V15) -> 0 | X15: =W15/#REF!*100% -> #REF! | AE15: =SUM(Z15:AD15) -> 0 | AF15: =AE15/#REF!*100% -> #REF! | AG15: =(F15-#REF!) -> #REF!
D16: 8 | M16: =SUM(G16:L16) -> 0 | N16: =SUM(H16:L16) -> 0 | O16: =N16/M16*100% -> #DIV/0! | P16: =SUM(Q16:V16) -> 0 | W16: =SUM(R16:V16) -> 0 | X16: =W16/#REF!*100% -> #REF! | AE16: =SUM(Z16:AD16) -> 0 | AF16: =AE16/#REF!*100% -> #REF! | AG16: =(F16-#REF!) -> #REF!
D17: 9 | M17: =SUM(G17:L17) -> 0 | N17: =SUM(H17:L17) -> 0 | O17: =N17/M17*100% -> #DIV/0! | P17: =SUM(Q17:V17) -> 0 | W17: =SUM(R17:V17) -> 0 | X17: =W17/#REF!*100% -> #REF! | AE17: =SUM(Z17:AD17) -> 0 | AF17: =AE17/#REF!*100% -> #REF! | AG17: =(F17-#REF!) -> #REF!
D18: 10 | M18: =SUM(G18:L18) -> 0 | N18: =SUM(H18:L18) -> 0 | O18: =N18/M18*100% -> #DIV/0! | P18: =SUM(Q18:V18) -> 0 | W18: =SUM(R18:V18) -> 0 | X18: =W18/#REF!*100% -> #REF! | AE18: =SUM(Z18:AD18) -> 0 | AF18: =AE18/#REF!*100% -> #REF! | AG18: =(F18-#REF!) -> #REF!
D19: 11 | M19: =SUM(G19:L19) -> 0 | N19: =SUM(H19:L19) -> 0 | O19: =N19/M19*100% -> #DIV/0! | P19: =SUM(Q19:V19) -> 0 | W19: =SUM(R19:V19) -> 0 | X19: =W19/#REF!*100% -> #REF! | AE19: =SUM(Z19:AD19) -> 0 | AF19: =AE19/#REF!*100% -> #REF! | AG19: =(F19-#REF!) -> #REF!
D20: 12 | M20: =SUM(G20:L20) -> 0 | N20: =SUM(H20:L20) -> 0 | O20: =N20/M20*100% -> #DIV/0! | P20: =SUM(Q20:V20) -> 0 | W20: =SUM(R20:V20) -> 0 | X20: =W20/#REF!*100% -> #REF! | AE20: =SUM(Z20:AD20) -> 0 | AF20: =AE20/#REF!*100% -> #REF! | AG20: =(F20-#REF!) -> #REF!
... D32: 24 | M32: =SUM(G32:L32) -> 0 | N32: =SUM(H32:L32) -> 0 | O32: =N32/M32*100% -> #DIV/0! | P32: =SUM(Q32:V32) -> 0 | W32: =SUM(R32:V32) -> 0 | X32: =W32/#REF!*100% -> #REF! | AE32: =SUM(Z32:AD32) -> 0 | AF32: =AE32/#REF!*100% -> #REF! | AG32: =(F32-#REF!) -> #REF!
D33: المجموع | F33: =SUM(F9:F32) -> 0 | H33: =SUM(H9:H32) -> 0 | I33: =SUM(I9:I32) -> 0 | J33: =SUM(J9:J32) -> 0 | K33: =SUM(K9:K32) -> 0 | L33: =SUM(L9:L32) -> 0 | M33: =SUM(G33:L33) -> 0 | N33: =SUM(H33:L33) -> 0 | O33: =N33/M33*100% -> #DIV/0! | P33: =SUM(Q33:V33) -> 0 | Q33: =SUM(Q9:Q32) -> 0 | R33: =SUM(R9:R32) -> 0 | S33: =SUM(S9:S32) -> 0 | T33: =SUM(T9:T32) -> 0 | U33: =SUM(U9:U32) -> 0 | V33: =SUM(V9:V32) -> 0 | W33: =SUM(R33:V33) -> 0 | X33: =W33/#REF!*100% -> #REF! | Y33: =SUM(Y9:Y32) -> 0 | Z33: =SUM(Z9:Z32) -> 0 | AA33: =SUM(AA9:AA32) -> 0 | AB33: =SUM(AB9:AB32) -> 0 | AC33: =SUM(AC9:AC32) -> 0 | AD33: =SUM(AD9:AD32) -> 0 | AE33: =SUM(Z33:AD33) -> 0 | AF33: =AE33/#REF!*100% -> #REF! | AG33: =(F33-#REF!) -> #REF!
D35: وزارة التربية
D36: الإدارة العامة لمنطقة …………………... التعليمية
D37: مدرسة :
D38: الصف ( الثاني ) | Z38: الفترة : .................
D39: الفترة : آخر العام
D40: م | E40: الصف | F40: الاجمالى | G40: فئات الدرجات | M40: عدد المتقدمين | N40: عدد الناجحين | O40: النسبة المئوية | P40: متقدم | Q40: الامتحان التحريري ( 30 ) | W40: عدد الناجحين | X40: النسبة المئوية | Y40: الدرجة النهائية ( 50 ) | AE40: عدد الناجحين | AF40: النسبة المئوية | AG40: غائب
Q41: ضعيف | R41: مقبول | S41: مقبول | T41: جيد | U41: جيدجدا | V41: ممتاز | Y41: ضعيف | Z41: مقبول | AA41: مقبول | AB41: جيد | AC41: جيدجدا | AD41: ممتاز
G42: 0 - 39.5 | H42: 40 - 49.5 | I42: 50 - 59.5 | J42: 60 - 74.5 | K42: 75 - 89.5 | L42: 90 - 100 | Q42: 0 - 14.5 | R42: 15 | S42: 15.5 - 20.5 | T42: 21 - 26.5 | U42: 27 - 29.5 | V42: 30 | Y42: 0 - 24.5 | Z42: 25 | AA42: 25.5 - 34.5 | AB42: 35 - 44.5 | AC42: 45 - 49.5 | AD42: 50
D43: 1 | M43: =SUM(G43:L43) -> 0 | N43: =SUM(H43:L43) -> 0 | O43: =N43/M43*100% -> #DIV/0! | P43: =SUM(Q43:V43) -> 0 | W43: =SUM(R43:V43) -> 0 | X43: =W43/#REF!*100% -> #REF! | AE43: =SUM(Z43:AD43) -> 0 | AF43: =AE43/#REF!*100% -> #REF! | AG43: =(F43-#REF!) -> #REF!
D44: 2 | M44: =SUM(G44:L44) -> 0 | N44: =SUM(H44:L44) -> 0 | O44: =N44/M44*100% -> #DIV/0! | P44: =SUM(Q44:V44) -> 0 | W44: =SUM(R44:V44) -> 0 | X44: =W44/#REF!*100% -> #REF! | AE44: =SUM(Z44:AD44) -> 0 | AF44: =AE44/#REF!*100% -> #REF! | AG44: =(F44-#REF!) -> #REF!
D45: 3 | M45: =SUM(G45:L45) -> 0 | N45: =SUM(H45:L45) -> 0 | O45: =N45/M45*100% -> #DIV/0! | P45: =SUM(Q45:V45) -> 0 | W45: =SUM(R45:V45) -> 0 | X45: =W45/#REF!*100% -> #REF! | AE45: =SUM(Z45:AD45) -> 0 | AF45: =AE45/#REF!*100% -> #REF! | AG45: =(F45-#REF!) -> #REF!
D46: 4 | M46: =SUM(G46:L46) -> 0 | N46: =SUM(H46:L46) -> 0 | O46: =N46/M46*100% -> #DIV/0! | P46: =SUM(Q46:V46) -> 0 | W46: =SUM(R46:V46) -> 0 | X46: =W46/#REF!*100% -> #REF! | AE46: =SUM(Z46:AD46) -> 0 | AF46: =AE46/#REF!*100% -> #REF! | AG46: =(F46-#REF!) -> #REF!
D47: 5 | M47: =SUM(G47:L47) -> 0 | N47: =SUM(H47:L47) -> 0 | O47: =N47/M47*100% -> #DIV/0! | P47: =SUM(Q47:V47) -> 0 | W47: =SUM(R47:V47) -> 0 | X47: =W47/#REF!*100% -> #REF! | AE47: =SUM(Z47:AD47) -> 0 | AF47: =AE47/#REF!*100% -> #REF! | AG47: =(F47-#REF!) -> #REF!
D48: 6 | M48: =SUM(G48:L48) -> 0 | N48: =SUM(H48:L48) -> 0 | O48: =N48/M48*100% -> #DIV/0! | P48: =SUM(Q48:V48) -> 0 | W48: =SUM(R48:V48) -> 0 | X48: =W48/#REF!*100% -> #REF! | AE48: =SUM(Z48:AD48) -> 0 | AF48: =AE48/#REF!*100% -> #REF! | AG48: =(F48-#REF!) -> #REF!
D49: 7 | M49: =SUM(G49:L49) -> 0 | N49: =SUM(H49:L49) -> 0 | O49: =N49/M49*100% -> #DIV/0! | P49: =SUM(Q49:V49) -> 0 | W49: =SUM(R49:V49) -> 0 | X49: =W49/#REF!*100% -> #REF! | AE49: =SUM(Z49:AD49) -> 0 | AF49: =AE49/#REF!*100% -> #REF! | AG49: =(F49-#REF!) -> #REF!
D50: 8 | M50: =SUM(G50:L50) -> 0 | N50: =SUM(H50:L50) -> 0 | O50: =N50/M50*100% -> #DIV/0! | P50: =SUM(Q50:V50) -> 0 | W50: =SUM(R50:V50) -> 0 | X50: =W50/#REF!*100% -> #REF! | AE50: =SUM(Z50:AD50) -> 0 | AF50: =AE50/#REF!*100% -> #REF! | AG50: =(F50-#REF!) -> #REF!
D51: 9 | M51: =SUM(G51:L51) -> 0 | N51: =SUM(H51:L51) -> 0 | O51: =N51/M51*100% -> #DIV/0! | P51: =SUM(Q51:V51) -> 0 | W51: =SUM(R51:V51) -> 0 | X51: =W51/#REF!*100% -> #REF! | AE51: =SUM(Z51:AD51) -> 0 | AF51: =AE51/#REF!*100% -> #REF! | AG51: =(F51-#REF!) -> #REF!
D52: 10 | M52: =SUM(G52:L52) -> 0 | N52: =SUM(H52:L52) -> 0 | O52: =N52/M52*100% -> #DIV/0! | P52: =SUM(Q52:V52) -> 0 | W52: =SUM(R52:V52) -> 0 | X52: =W52/#REF!*100% -> #REF! | AE52: =SUM(Z52:AD52) -> 0 | AF52: =AE52/#REF!*100% -> #REF! | AG52: =(F52-#REF!) -> #REF!
...

Sheet المرحلة الابتدائية بنات
D1: وزارة التربية
D2: الإدارة العامة لمنطقة …………………... التعليمية
D3: مدرسة :
D4: الصف ( الأول ) | Z4: الفترة : .................
D5: الفترة : آخر العام
D6: م | E6: الصف | F6: الاجمالى | G6: فئات الدرجات | M6: عدد المتقدمين | N6: عدد الناجحين | O6: النسبة المئوية | P6: متقدم | Q6: الامتحان التحريري ( 30 ) | W6: عدد الناجحين | X6: النسبة المئوية | Y6: الدرجة النهائية ( 50 ) | AE6: عدد الناجحين | AF6: النسبة المئوية | AG6: غائب
Q7: ضعيف | R7: مقبول | S7: مقبول | T7: جيد | U7: جيدجدا | V7: ممتاز | Y7: ضعيف | Z7: مقبول | AA7: مقبول | AB7: جيد | AC7: جيدجدا | AD7: ممتاز
G8: 0 - 39.5 | H8: 40 - 49.5 | I8: 50 - 59.5 | J8: 60 - 74.5 | K8: 75 - 89.5 | L8: 90 - 100 | Q8: 0 - 14.5 | R8: 15 | S8: 15.5 - 20.5 | T8: 21 - 26.5 | U8: 27 - 29.5 | V8: 30 | Y8: 0 - 24.5 | Z8: 25 | AA8: 25.5 - 34.5 | AB8: 35 - 44.5 | AC8: 45 - 49.5 | AD8: 50
D9: 1 | M9: =SUM(G9:L9) -> 0 | N9: =SUM(H9:L9) -> 0 | O9: =N9/M9*100% -> #DIV/0! | P9: =SUM(Q9:V9) -> 0 | W9: =SUM(R9:V9) -> 0 | X9: =W9/#REF!*100% -> #REF! | AE9: =SUM(Z9:AD9) -> 0 | AF9: =AE9/#REF!*100% -> #REF! | AG9: =(F9-#REF!) -> #REF!
D10: 2 | M10: =SUM(G10:L10) -> 0 | N10: =SUM(H10:L10) -> 0 | O10: =N10/M10*100% -> #DIV/0! | P10: =SUM(Q10:V10) -> 0 | W10: =SUM(R10:V10) -> 0 | X10: =W10/#REF!*100% -> #REF! | AE10: =SUM(Z10:AD10) -> 0 | AF10: =AE10/#REF!*100% -> #REF! | AG10: =(F10-#REF!) -> #REF!
D11: 3 | M11: =SUM(G11:L11) -> 0 | N11: =SUM(H11:L11) -> 0 | O11: =N11/M11*100% -> #DIV/0! | P11: =SUM(Q11:V11) -> 0 | W11: =SUM(R11:V11) -> 0 | X11: =W11/#REF!*100% -> #REF! | AE11: =SUM(Z11:AD11) -> 0 | AF11: =AE11/#REF!*100% -> #REF! | AG11: =(F11-#REF!) -> #REF!
D12: 4 | M12: =SUM(G12:L12) -> 0 | N12: =SUM(H12:L12) -> 0 | O12: =N12/M12*100% -> #DIV/0! | P12: =SUM(Q12:V12) -> 0 | W12: =SUM(R12:V12) -> 0 | X12: =W12/#REF!*100% -> #REF! | AE12: =SUM(Z12:AD12) -> 0 | AF12: =AE12/#REF!*100% -> #REF! | AG12: =(F12-#REF!) -> #REF!
D13: 5 | M13: =SUM(G13:L13) -> 0 | N13: =SUM(H13:L13) -> 0 | O13: =N13/M13*100% -> #DIV/0! | P13: =SUM(Q13:V13) -> 0 | W13: =SUM(R13:V13) -> 0 | X13: =W13/#REF!*100% -> #REF! | AE13: =SUM(Z13:AD13) -> 0 | AF13: =AE13/#REF!*100% -> #REF! | AG13: =(F13-#REF!) -> #REF!
D14: 6 | M14: =SUM(G14:L14) -> 0 | N14: =SUM(H14:L14) -> 0 | O14: =N14/M14*100% -> #DIV/0! | P14: =SUM(Q14:V14) -> 0 | W14: =SUM(R14:V14) -> 0 | X14: =W14/#REF!*100% -> #REF! | AE14: =SUM(Z14:AD14) -> 0 | AF14: =AE14/#REF!*100% -> #REF! | AG14: =(F14-#REF!) -> #REF!
D15: 7 | M15: =SUM(G15:L15) -> 0 | N15: =SUM(H15:L15) -> 0 | O15: =N15/M15*100% -> #DIV/0! | P15: =SUM(Q15:V15) -> 0 | W15: =SUM(R15:V15) -> 0 | X15: =W15/#REF!*100% -> #REF! | AE15: =SUM(Z15:AD15) -> 0 | AF15: =AE15/#REF!*100% -> #REF! | AG15: =(F15-#REF!) -> #REF!
D16: 8 | M16: =SUM(G16:L16) -> 0 | N16: =SUM(H16:L16) -> 0 | O16: =N16/M16*100% -> #DIV/0! | P16: =SUM(Q16:V16) -> 0 | W16: =SUM(R16:V16) -> 0 | X16: =W16/#REF!*100% -> #REF! | AE16: =SUM(Z16:AD16) -> 0 | AF16: =AE16/#REF!*100% -> #REF! | AG16: =(F16-#REF!) -> #REF!
D17: 9 | M17: =SUM(G17:L17) -> 0 | N17: =SUM(H17:L17) -> 0 | O17: =N17/M17*100% -> #DIV/0! | P17: =SUM(Q17:V17) -> 0 | W17: =SUM(R17:V17) -> 0 | X17: =W17/#REF!*100% -> #REF! | AE17: =SUM(Z17:AD17) -> 0 | AF17: =AE17/#REF!*100% -> #REF! | AG17: =(F17-#REF!) -> #REF!
D18: 10 | M18: =SUM(G18:L18) -> 0 | N18: =SUM(H18:L18) -> 0 | O18: =N18/M18*100% -> #DIV/0! | P18: =SUM(Q18:V18) -> 0 | W18: =SUM(R18:V18) -> 0 | X18: =W18/#REF!*100% -> #REF! | AE18: =SUM(Z18:AD18) -> 0 | AF18: =AE18/#REF!*100% -> #REF! | AG18: =(F18-#REF!) -> #REF!
D19: 11 | M19: =SUM(G19:L19) -> 0 | N19: =SUM(H19:L19) -> 0 | O19: =N19/M19*100% -> #DIV/0! | P19: =SUM(Q19:V19) -> 0 | W19: =SUM(R19:V19) -> 0 | X19: =W19/#REF!*100% -> #REF! | AE19: =SUM(Z19:AD19) -> 0 | AF19: =AE19/#REF!*100% -> #REF! | AG19: =(F19-#REF!) -> #REF!
D20: 12 | M20: =SUM(G20:L20) -> 0 | N20: =SUM(H20:L20) -> 0 | O20: =N20/M20*100% -> #DIV/0! | P20: =SUM(Q20:V20) -> 0 | W20: =SUM(R20:V20) -> 0 | X20: =W20/#REF!*100% -> #REF! | AE20: =SUM(Z20:AD20) -> 0 | AF20: =AE20/#REF!*100% -> #REF! | AG20: =(F20-#REF!) -> #REF!
... D32: 24 | M32: =SUM(G32:L32) -> 0 | N32: =SUM(H32:L32) -> 0 | O32: =N32/M32*100% -> #DIV/0! | P32: =SUM(Q32:V32) -> 0 | W32: =SUM(R32:V32) -> 0 | X32: =W32/#REF!*100% -> #REF! | AE32: =SUM(Z32:AD32) -> 0 | AF32: =AE32/#REF!*100% -> #REF! | AG32: =(F32-#REF!) -> #REF!
D33: المجموع | F33: =SUM(F9:F32) -> 0 | G33: =SUM(G9:G32) -> 0 | H33: =SUM(H9:H32) -> 0 | I33: =SUM(I9:I32) -> 0 | J33: =SUM(J9:J32) -> 0 | K33: =SUM(K9:K32) -> 0 | L33: =SUM(L9:L32) -> 0 | M33: =SUM(G33:L33) -> 0 | N33: =SUM(H33:L33) -> 0 | O33: =N33/M33*100% -> #DIV/0! | P33: =SUM(Q33:V33) -> 0 | Q33: =SUM(Q9:Q32) -> 0 | R33: =SUM(R9:R32) -> 0 | S33: =SUM(S9:S32) -> 0 | T33: =SUM(T9:T32) -> 0 | U33: =SUM(U9:U32) -> 0 | V33: =SUM(V9:V32) -> 0 | W33: =SUM(R33:V33) -> 0 | X33: =W33/#REF!*100% -> #REF! | Y33: =SUM(Y9:Y32) -> 0 | Z33: =SUM(Z9:Z32) -> 0 | AA33: =SUM(AA9:AA32) -> 0 | AB33: =SUM(AB9:AB32) -> 0 | AC33: =SUM(AC9:AC32) -> 0 | AD33: =SUM(AD9:AD32) -> 0 | AE33: =SUM(Z33:AD33) -> 0 | AF33: =AE33/#REF!*100% -> #REF! | AG33: =(F33-#REF!) -> #REF!
D35: وزارة التربية
D36: الإدارة العامة لمنطقة …………………... التعليمية
D37: مدرسة :
D38: الصف ( الثاني ) | Z38: الفترة : .................
D39: الفترة : آخر العام
D40: م | E40: الصف | F40: الاجمالى | G40: فئات الدرجات | M40: عدد المتقدمين | N40: عدد الناجحين | O40: النسبة المئوية | P40: متقدم | Q40: الامتحان التحريري ( 30 ) | W40: عدد الناجحين | X40: النسبة المئوية | Y40: الدرجة النهائية ( 50 ) | AE40: عدد الناجحين | AF40: النسبة المئوية | AG40: غائب
Q41: ضعيف | R41: مقبول | S41: مقبول | T41: جيد | U41: جيدجدا | V41: ممتاز | Y41: ضعيف | Z41: مقبول | AA41: مقبول | AB41: جيد | AC41: جيدجدا | AD41: ممتاز
G42: 0 - 39.5 | H42: 40 - 49.5 | I42: 50 - 59.5 | J42: 60 - 74.5 | K42: 75 - 89.5 | L42: 90 - 100 | Q42: 0 - 14.5 | R42: 15 | S42: 15.5 - 20.5 | T42: 21 - 26.5 | U42: 27 - 29.5 | V42: 30 | Y42: 0 - 24.5 | Z42: 25 | AA42: 25.5 - 34.5 | AB42: 35 - 44.5 | AC42: 45 - 49.5 | AD42: 50
D43: 1 | M43: =SUM(G43:L43) -> 0 | N43: =SUM(H43:L43) -> 0 | O43: =N43/M43*100% -> #DIV/0! | P43: =SUM(Q43:V43) -> 0 | W43: =SUM(R43:V43) -> 0 | X43: =W43/#REF!*100% -> #REF! | AE43: =SUM(Z43:AD43) -> 0 | AF43: =AE43/#REF!*100% -> #REF! | AG43: =(F43-#REF!) -> #REF!
D44: 2 | M44: =SUM(G44:L44) -> 0 | N44: =SUM(H44:L44) -> 0 | O44: =N44/M44*100% -> #DIV/0! | P44: =SUM(Q44:V44) -> 0 | W44: =SUM(R44:V44) -> 0 | X44: =W44/#REF!*100% -> #REF! | AE44: =SUM(Z44:AD44) -> 0 | AF44: =AE44/#REF!*100% -> #REF! | AG44: =(F44-#REF!) -> #REF!
D45: 3 | M45: =SUM(G45:L45) -> 0 | N45: =SUM(H45:L45) -> 0 | O45: =N45/M45*100% -> #DIV/0! | P45: =SUM(Q45:V45) -> 0 | W45: =SUM(R45:V45) -> 0 | X45: =W45/#REF!*100% -> #REF! | AE45: =SUM(Z45:AD45) -> 0 | AF45: =AE45/#REF!*100% -> #REF! | AG45: =(F45-#REF!) -> #REF!
D46: 4 | M46: =SUM(G46:L46) -> 0 | N46: =SUM(H46:L46) -> 0 | O46: =N46/M46*100% -> #DIV/0! | P46: =SUM(Q46:V46) -> 0 | W46: =SUM(R46:V46) -> 0 | X46: =W46/#REF!*100% -> #REF! | AE46: =SUM(Z46:AD46) -> 0 | AF46: =AE46/#REF!*100% -> #REF! | AG46: =(F46-#REF!) -> #REF!
D47: 5 | M47: =SUM(G47:L47) -> 0 | N47: =SUM(H47:L47) -> 0 | O47: =N47/M47*100% -> #DIV/0! | P47: =SUM(Q47:V47) -> 0 | W47: =SUM(R47:V47) -> 0 | X47: =W47/#REF!*100% -> #REF! | AE47: =SUM(Z47:AD47) -> 0 | AF47: =AE47/#REF!*100% -> #REF! | AG47: =(F47-#REF!) -> #REF!
D48: 6 | M48: =SUM(G48:L48) -> 0 | N48: =SUM(H48:L48) -> 0 | O48: =N48/M48*100% -> #DIV/0! | P48: =SUM(Q48:V48) -> 0 | W48: =SUM(R48:V48) -> 0 | X48: =W48/#REF!*100% -> #REF! | AE48: =SUM(Z48:AD48) -> 0 | AF48: =AE48/#REF!*100% -> #REF! | AG48: =(F48-#REF!) -> #REF!
D49: 7 | M49: =SUM(G49:L49) -> 0 | N49: =SUM(H49:L49) -> 0 | O49: =N49/M49*100% -> #DIV/0! | P49: =SUM(Q49:V49) -> 0 | W49: =SUM(R49:V49) -> 0 | X49: =W49/#REF!*100% -> #REF! | AE49: =SUM(Z49:AD49) -> 0 | AF49: =AE49/#REF!*100% -> #REF! | AG49: =(F49-#REF!) -> #REF!
D50: 8 | M50: =SUM(G50:L50) -> 0 | N50: =SUM(H50:L50) -> 0 | O50: =N50/M50*100% -> #DIV/0! | P50: =SUM(Q50:V50) -> 0 | W50: =SUM(R50:V50) -> 0 | X50: =W50/#REF!*100% -> #REF! | AE50: =SUM(Z50:AD50) -> 0 | AF50: =AE50/#REF!*100% -> #REF! | AG50: =(F50-#REF!) -> #REF!
D51: 9 | M51: =SUM(G51:L51) -> 0 | N51: =SUM(H51:L51) -> 0 | O51: =N51/M51*100% -> #DIV/0! | P51: =SUM(Q51:V51) -> 0 | W51: =SUM(R51:V51) -> 0 | X51: =W51/#REF!*100% -> #REF! | AE51: =SUM(Z51:AD51) -> 0 | AF51: =AE51/#REF!*100% -> #REF! | AG51: =(F51-#REF!) -> #REF!
D52: 10 | M52: =SUM(G52:L52) -> 0 | N52: =SUM(H52:L52) -> 0 | O52: =N52/M52*100% -> #DIV/0! | P52: =SUM(Q52:V52) -> 0 | W52: =SUM(R52:V52) -> 0 | X52: =W52/#REF!*100% -> #REF! | AE52: =SUM(Z52:AD52) -> 0 | AF52: =AE52/#REF!*100% -> #REF! | AG52: =(F52-#REF!) -> #REF!
...

Sheet تجميع  آخر العام 
D1: وزارة التربية | N1: العام الدراسي 2020/ 2021
D2: الإدارة العامة لمنطقة …………………... التعليمية
D4: الصف ( الأول ) | Z4: الفترة : .................
D5: الفترة : آخر العام
D6: م | F6: الاجمالى | G6: فئات الدرجات | M6: عدد المتقدمين | N6: عدد الناجحين | O6: النسبة المئوية | P6: متقدم | Q6: الامتحان التحريري ( 30 ) | W6: عدد الناجحين | X6: النسبة المئوية | Y6: الدرجة النهائية ( 50 ) | AE6: عدد الناجحين | AF6: النسبة المئوية | AG6: غائب
Q7: ضعيف | R7: مقبول | S7: مقبول | T7: جيد | U7: جيدجدا | V7: ممتاز | Y7: ضعيف | Z7: مقبول | AA7: مقبول | AB7: جيد | AC7: جيدجدا | AD7: ممتاز
G8: 0 - 39.5 | H8: 40 - 49.5 | I8: 50 - 59.5 | J8: 60 - 74.5 | K8: 75 - 89.5 | L8: 90 - 100 | Q8: 0 - 14.5 | R8: 15 | S8: 15.5 - 20.5 | T8: 21 - 26.5 | U8: 27 - 29.5 | V8: 30 | Y8: 0 - 24.5 | Z8: 25 | AA8: 25.5 - 34.5 | AB8: 35 - 44.5 | AC8: 45 - 49.5 | AD8: 50
D9: 1 | E9: البنين | G9: ='المرحلة الابتدائية بنين'!G33 -> 0 | H9: ='المرحلة الابتدائية بنين'!H33 -> 0 | I9: ='المرحلة الابتدائية بنين'!I33 -> 0 | J9: ='المرحلة الابتدائية بنين'!J33 -> 0 | K9: ='المرحلة الابتدائية بنين'!K33 -> 0 | L9: ='المرحلة الابتدائية بنين'!L33 -> 0 | M9: ='المرحلة الابتدائية بنين'!M33 -> 0 | N9: ='المرحلة الابتدائية بنين'!N33 -> 0 | O9: ='المرحلة الابتدائية بنين'!O33 -> #DIV/0! | P9: =SUM(Q9:V9) -> 0 | W9: =SUM(R9:V9) -> 0 | X9: =W9/#REF!*100% -> #REF! | AE9: =SUM(Z9:AD9) -> 0 | AF9: =AE9/#REF!*100% -> #REF! | AG9: =(F9-#REF!) -> #REF!
D10: 2 | E10: البنات | G10: ='المرحلة الابتدائية بنات'!G33 -> 0 | H10: ='المرحلة الابتدائية بنات'!H33 -> 0 | I10: ='المرحلة الابتدائية بنات'!I33 -> 0 | J10: ='المرحلة الابتدائية بنات'!J33 -> 0 | K10: ='المرحلة الابتدائية بنات'!K33 -> 0 | L10: ='المرحلة الابتدائية بنات'!L33 -> 0 | M10: ='المرحلة الابتدائية بنات'!M33 -> 0 | N10: ='المرحلة الابتدائية بنات'!N33 -> 0 | O10: ='المرحلة الابتدائية بنات'!O33 -> #DIV/0! | P10: =SUM(Q10:V10) -> 0 | W10: =SUM(R10:V10) -> 0 | X10: =W10/#REF!*100% -> #REF! | AE10: =SUM(Z10:AD10) -> 0 | AF10: =AE10/#REF!*100% -> #REF! | AG10: =(F10-#REF!) -> #REF!
D11: المجموع | F11: =SUM(F9:F10) -> 0 | G11: =SUM(G9:G10) -> 0 | H11: =SUM(H9:H10) -> 0 | I11: =SUM(I9:I10) -> 0 | J11: =SUM(J9:J10) -> 0 | K11: =SUM(K9:K10) -> 0 | L11: =SUM(L9:L10) -> 0 | M11: =SUM(M9:M10) -> 0 | N11: =SUM(N9:N10) -> 0 | O11: =N11/M11*100% -> #DIV/0! | P11: =SUM(Q11:V11) -> 0 | Q11: =SUM(Q9:Q10) -> 0 | R11: =SUM(R9:R10) -> 0 | S11: =SUM(S9:S10) -> 0 | T11: =SUM(T9:T10) -> 0 | U11: =SUM(U9:U10) -> 0 | V11: =SUM(V9:V10) -> 0 | W11: =SUM(R11:V11) -> 0 | X11: =W11/#REF!*100% -> #REF! | Y11: =SUM(Y9:Y10) -> 0 | Z11: =SUM(Z9:Z10) -> 0 | AA11: =SUM(AA9:AA10) -> 0 | AB11: =SUM(AB9:AB10) -> 0 | AC11: =SUM(AC9:AC10) -> 0 | AD11: =SUM(AD9:AD10) -> 0 | AE11: =SUM(Z11:AD11) -> 0 | AF11: =AE11/#REF!*100% -> #REF! | AG11: =(F11-#REF!) -> #REF!
D13: وزارة التربية | N13: العام الدراسي 2020/ 2021
D14: الإدارة العامة لمنطقة …………………... التعليمية
D16: الصف ( الثاني ) | Z16: الفترة : .................
D17: الفترة : آخر العام
D18: م | E18: الصف | F18: الاجمالى | G18: فئات الدرجات | M18: عدد المتقدمين | N18: عدد الناجحين | O18: النسبة المئوية | P18: متقدم | Q18: الامتحان التحريري ( 30 ) | W18: عدد الناجحين | X18: النسبة المئوية | Y18: الدرجة النهائية ( 50 ) | AE18: عدد الناجحين | AF18: النسبة المئوية | AG18: غائب
Q19: ضعيف | R19: مقبول | S19: مقبول | T19: جيد | U19: جيدجدا | V19: ممتاز | Y19: ضعيف | Z19: مقبول | AA19: مقبول | AB19: جيد | AC19: جيدجدا | AD19: ممتاز
G20: 0 - 39.5 | H20: 40 - 49.5 | I20: 50 - 59.5 | J20: 60 - 74.5 | K20: 75 - 89.5 | L20: 90 - 100 | Q20: 0 - 14.5 | R20: 15 | S20: 15.5 - 20.5 | T20: 21 - 26.5 | U20: 27 - 29.5 | V20: 30 | Y20: 0 - 24.5 | Z20: 25 | AA20: 25.5 - 34.5 | AB20: 35 - 44.5 | AC20: 45 - 49.5 | AD20: 50
D21: 1 | E21: البنين | G21: ='المرحلة الابتدائية بنين'!G67 -> 0 | H21: ='المرحلة الابتدائية بنين'!H67 -> 0 | I21: ='المرحلة الابتدائية بنين'!I67 -> 0 | J21: ='المرحلة الابتدائية بنين'!J67 -> 0 | K21: ='المرحلة الابتدائية بنين'!K67 -> 0 | L21: ='المرحلة الابتدائية بنين'!L67 -> 0 | M21: ='المرحلة الابتدائية بنين'!M67 -> 0 | N21: ='المرحلة الابتدائية بنين'!N67 -> 0 | O21: ='المرحلة الابتدائية بنين'!O67 -> #DIV/0! | P21: =SUM(Q21:V21) -> 0 | W21: =SUM(R21:V21) -> 0 | X21: =W21/#REF!*100% -> #REF! | AE21: =SUM(Z21:AD21) -> 0 | AF21: =AE21/#REF!*100% -> #REF! | AG21: =(F21-#REF!) -> #REF!
D22: 2 | E22: البنات | G22: ='المرحلة الابتدائية بنات'!G67 -> 0 | H22: ='المرحلة الابتدائية بنات'!H67 -> 0 | I22: ='المرحلة الابتدائية بنات'!I67 -> 0 | J22: ='المرحلة الابتدائية بنات'!J67 -> 0 | K22: ='المرحلة الابتدائية بنات'!K67 -> 0 | L22: ='المرحلة الابتدائية بنات'!L67 -> 0 | M22: ='المرحلة الابتدائية بنات'!M67 -> 0 | N22: ='المرحلة الابتدائية بنات'!N67 -> 0 | O22: ='المرحلة الابتدائية بنات'!O67 -> #DIV/0! | P22: =SUM(Q22:V22) -> 0 | W22: =SUM(R22:V22) -> 0 | X22: =W22/#REF!*100% -> #REF! | AE22: =SUM(Z22:AD22) -> 0 | AF22: =AE22/#REF!*100% -> #REF! | AG22: =(F22-#REF!) -> #REF!
D23: المجموع | F23: =SUM(F21:F22) -> 0 | G23: =SUM(G21:G22) -> 0 | H23: =SUM(H21:H22) -> 0 | I23: =SUM(I21:I22) -> 0 | J23: =SUM(J21:J22) -> 0 | K23: =SUM(K21:K22) -> 0 | L23: =SUM(L21:L22) -> 0 | M23: =SUM(M21:M22) -> 0 | N23: =SUM(N21:N22) -> 0 | O23: =N23/M23*100% -> #DIV/0! | P23: =SUM(Q23:V23) -> 0 | Q23: =SUM(Q21:Q22) -> 0 | R23: =SUM(R21:R22) -> 0 | S23: =SUM(S21:S22) -> 0 | T23: =SUM(T21:T22) -> 0 | U23: =SUM(U21:U22) -> 0 | V23: =SUM(V21:V22) -> 0 | W23: =SUM(R23:V23) -> 0 | X23: =W23/#REF!*100% -> #REF! | Y23: =SUM(Y21:Y22) -> 0 | Z23: =SUM(Z21:Z22) -> 0 | AA23: =SUM(AA21:AA22) -> 0 | AB23: =SUM(AB21:AB22) -> 0 | AC23: =SUM(AC21:AC22) -> 0 | AD23: =SUM(AD21:AD22) -> 0 | AE23: =SUM(Z23:AD23) -> 0 | AF23: =AE23/#REF!*100% -> #REF! | AG23: =(F23-#REF!) -> #REF!
D24: وزارة التربية | N24: العام الدراسي 2020/ 2021
D25: الإدارة العامة لمنطقة …………………... التعليمية
D27: الصف ( الثالث ) | Z27: الفترة : .................
D28: الفترة : آخر العام
D29: م | F29: الاجمالى | G29: فئات الدرجات | M29: عدد المتقدمين | N29: عدد الناجحين | O29: النسبة المئوية | P29: متقدم | Q29: الامتحان التحريري ( 30 ) | W29: عدد الناجحين | X29: النسبة المئوية | Y29: الدرجة النهائية ( 50 ) | AE29: عدد الناجحين | AF29: النسبة المئوية | AG29: غائب
Q30: ضعيف | R30: مقبول | S30: مقبول | T30: جيد | U30: جيدجدا | V30: ممتاز | Y30: ضعيف | Z30: مقبول | AA30: مقبول | AB30: جيد | AC30: جيدجدا | AD30: ممتاز
G31: 0 - 39.5 | H31: 40 - 49.5 | I31: 50 - 59.5 | J31: 60 - 74.5 | K31: 75 - 89.5 | L31: 90 - 100 | Q31: 0 - 14.5 | R31: 15 | S31: 15.5 - 20.5 | T31: 21 - 26.5 | U31: 27 - 29.5 | V31: 30 | Y31: 0 - 24.5 | Z31: 25 | AA31: 25.5 - 34.5 | AB31: 35 - 44.5 | AC31: 45 - 49.5 | AD31: 50
D32: 1 | E32: البنين | G32: ='المرحلة الابتدائية بنين'!G101 -> 0 | H32: ='المرحلة الابتدائية بنين'!H101 -> 0 | I32: ='المرحلة الابتدائية بنين'!I101 -> 0 | J32: ='المرحلة الابتدائية بنين'!J101 -> 0 | K32: ='المرحلة الابتدائية بنين'!K101 -> 0 | L32: ='المرحلة الابتدائية بنين'!L101 -> 0 | M32: ='المرحلة الابتدائية بنين'!M101 -> 0 | N32: ='المرحلة الابتدائية بنين'!N101 -> 0 | O32: ='المرحلة الابتدائية بنين'!O101 -> #DIV/0! | P32: =SUM(Q32:V32) -> 0 | W32: =SUM(R32:V32) -> 0 | X32: =W32/#REF!*100% -> #REF! | AE32: =SUM(Z32:AD32) -> 0 | AF32: =AE32/#REF!*100% -> #REF! | AG32: =(F32-#REF!) -> #REF!
D33: 2 | E33: البنات | G33: ='المرحلة الابتدائية بنات'!G101 -> 0 | H33: ='المرحلة الابتدائية بنات'!H101 -> 0 | I33: ='المرحلة الابتدائية بنات'!I101 -> 0 | J33: ='المرحلة الابتدائية بنات'!J101 -> 0 | K33: ='المرحلة الابتدائية بنات'!K101 -> 0 | L33: ='المرحلة الابتدائية بنات'!L101 -> 0 | M33: ='المرحلة الابتدائية بنات'!M101 -> 0 | N33: ='المرحلة الابتدائية بنات'!N101 -> 0 | O33: ='المرحلة الابتدائية بنات'!O101 -> #DIV/0! | P33: =SUM(Q33:V33) -> 0 | W33: =SUM(R33:V33) -> 0 | X33: =W33/#REF!*100% -> #REF! | AE33: =SUM(Z33:AD33) -> 0 | AF33: =AE33/#REF!*100% -> #REF! | AG33: =(F33-#REF!) -> #REF!
D34: المجموع | F34: =SUM(F32:F33) -> 0 | G34: =SUM(G32:G33) -> 0 | H34: =SUM(H32:H33) -> 0 | I34: =SUM(I32:I33) -> 0 | J34: =SUM(J32:J33) -> 0 | K34: =SUM(K32:K33) -> 0 | L34: =SUM(L32:L33) -> 0 | M34: =SUM(M32:M33) -> 0 | N34: =SUM(N32:N33) -> 0 | O34: =N34/M34*100% -> #DIV/0! | P34: =SUM(Q34:V34) -> 0 | Q34: =SUM(Q32:Q33) -> 0 | R34: =SUM(R32:R33) -> 0 | S34: =SUM(S32:S33) -> 0 | T34: =SUM(T32:T33) -> 0 | U34: =SUM(U32:U33) -> 0 | V34: =SUM(V32:V33) -> 0 | W34: =SUM(R34:V34) -> 0 | X34: =W34/#REF!*100% -> #REF! | Y34: =SUM(Y32:Y33) -> 0 | Z34: =SUM(Z32:Z33) -> 0 | AA34: =SUM(AA32:AA33) -> 0 | AB34: =SUM(AB32:AB33) -> 0 | AC34: =SUM(AC32:AC33) -> 0 | AD34: =SUM(AD32:AD33) -> 0 | AE34: =SUM(Z34:AD34) -> 0 | AF34: =AE34/#REF!*100% -> #REF! | AG34: =(F34-#REF!) -> #REF!
D37: وزارة التربية | N37: العام الدراسي 2020/ 2021
D38: الإدارة العامة لمنطقة …………………... التعليمية
D40: الصف ( الرابع ) | Z40: الفترة : .................
D41: الفترة : آخر العام
D42: م | F42: الاجمالى | G42: فئات الدرجات | M42: عدد المتقدمين | N42: عدد الناجحين | O42: النسبة المئوية | P42: متقدم | Q42: الامتحان التحريري ( 30 ) | W42: عدد الناجحين | X42: النسبة المئوية | Y42: الدرجة النهائية ( 50 ) | AE42: عدد الناجحين | AF42: النسبة المئوية | AG42: غائب
Q43: ضعيف | R43: مقبول | S43: مقبول | T43: جيد | U43: جيدجدا | V43: ممتاز | Y43: ضعيف | Z43: مقبول | AA43: مقبول | AB43: جيد | AC43: جيدجدا | AD43: ممتاز
G44: 0 - 39.5 | H44: 40 - 49.5 | I44: 50 - 59.5 | J44: 60 - 74.5 | K44: 75 - 89.5 | L44: 90 - 100 | Q44: 0 - 14.5 | R44: 15 | S44: 15.5 - 20.5 | T44: 21 - 26.5 | U44: 27 - 29.5 | V44: 30 | Y44: 0 - 24.5 | Z44: 25 | AA44: 25.5 - 34.5 | AB44: 35 - 44.5 | AC44: 45 - 49.5 | AD44: 50
D45: 1 | E45: البنين | G45: ='المرحلة الابتدائية بنين'!G135 -> 0 | H45: ='المرحلة الابتدائية بنين'!H135 -> 0 | I45: ='المرحلة الابتدائية بنين'!I135 -> 0 | J45: ='المرحلة الابتدائية بنين'!J135 -> 0 | K45: ='المرحلة الابتدائية بنين'!K135 -> 0 | L45: ='المرحلة الابتدائية بنين'!L135 -> 0 | M45: ='المرحلة الابتدائية بنين'!M135 -> 0 | N45: ='المرحلة الابتدائية بنين'!N135 -> 0 | O45: ='المرحلة الابتدائية بنين'!O135 -> #DIV/0! | P45: =SUM(Q45:V45) -> 0 | W45: =SUM(R45:V45) -> 0 | X45: =W45/#REF!*100% -> #REF! | AE45: =SUM(Z45:AD45) -> 0 | AF45: =AE45/#REF!*100% -> #REF! | AG45: =(F45-#REF!) -> #REF!
D46: 2 | E46: البنات | G46: ='المرحلة الابتدائية بنات'!G135 -> 0 | H46: ='المرحلة الابتدائية بنات'!H135 -> 0 | I46: ='المرحلة الابتدائية بنات'!I135 -> 0 | J46: ='المرحلة الابتدائية بنات'!J135 -> 0 | K46: ='المرحلة الابتدائية بنات'!K135 -> 0 | L46: ='المرحلة الابتدائية بنات'!L135 -> 0 | M46: ='المرحلة الابتدائية بنات'!M135 -> 0 | N46: ='المرحلة الابتدائية بنات'!N135 -> 0 | O46: ='المرحلة الابتدائية بنات'!O135 -> #DIV/0! | P46: =SUM(Q46:V46) -> 0 | W46: =SUM(R46:V46) -> 0 | X46: =W46/#REF!*100% -> #REF! | AE46: =SUM(Z46:AD46) -> 0 | AF46: =AE46/#REF!*100% -> #REF! | AG46: =(F46-#REF!) -> #REF!
D47: المجموع | F47: =SUM(F45:F46) -> 0 | G47: =SUM(G45:G46) -> 0 | H47: =SUM(H45:H46) -> 0 | I47: =SUM(I45:I46) -> 0 | J47: =SUM(J45:J46) -> 0 | K47: =SUM(K45:K46) -> 0 | L47: =SUM(L45:L46) -> 0 | M47: =SUM(M45:M46) -> 0 | N47: =SUM(N45:N46) -> 0 | O47: =N47/M47*100% -> #DIV/0! | P47: =SUM(Q47:V47) -> 0 | Q47: =SUM(Q45:Q46) -> 0 | R47: =SUM(R45:R46) -> 0 | S47: =SUM(S45:S46) -> 0 | T47: =SUM(T45:T46) -> 0 | U47: =SUM(U45:U46) -> 0 | V47: =SUM(V45:V46) -> 0 | W47: =SUM(R47:V47) -> 0 | X47: =W47/#REF!*100% -> #REF! | Y47: =SUM(Y45:Y46) -> 0 | Z47: =SUM(Z45:Z46) -> 0 | AA47: =SUM(AA45:AA46) -> 0 | AB47: =SUM(AB45:AB46) -> 0 | AC47: =SUM(AC45:AC46) -> 0 | AD47: =SUM(AD45:AD46) -> 0 | AE47: =SUM(Z47:AD47) -> 0 | AF47: =AE47/#REF!*100% -> #REF! | AG47: =(F47-#REF!) -> #REF!
...
