Workbook

Sheet المرحلة الابتدائية بنين
D1: وزارة التربية | N1: العام الدراسي
D2: الإدارة العامة لمنطقة …………………... التعليمية
D3: مدرسة :
D4: الصف ( الأول ) | Z4: الفترة : .................
D5: الفترة : آخر العام
D6: م | E6: الصف | F6: الاجمالى | G6: فئات الدرجات | M6: عدد المتقدمين | N6: عدد الناجحين | O6: النسبة المئوية | P6: متقدم | Q6: الامتحان التحريري ( 30 ) | W6: عدد الناجحين | X6: النسبة المئوية | Y6: الدرجة النهائية ( 50 ) | AE6: عدد الناجحين | AF6: النسبة المئوية | AG6: غائب
Q7: ضعيف | R7: مقبول | S7: مقبول | T7: جيد | U7: جيدجدا | V7: ممتاز | Y7: ضعيف | Z7: مقبول | AA7: مقبول | AB7: جيد | AC7: جيدجدا | AD7: ممتاز
G8: 0 - 39.5 | H8: 40 - 49.5 | I8: 50 - 59.5 | J8: 60 - 74.5 | K8: 75 - 89.5 | L8: 90 - 100 | Q8: 0 - 14.5 | R8: 15 | S8: 15.5 - 20.5 | T8: 21 - 26.5 | U8: 27 - 29.5 | V8: 30 | Y8: 0 - 24.5 | Z8: 25 | AA8: 25.5 - 34.5 | AB8: 35 - 44.5 | AC8: 45 - 49.5 | AD8: 50
D9: 1 | M9: =SUM(G9:L9) -> 0 | N9: =SUM(H9:L9) -> 0 | O9: =N9/M9*100% -> #DIV/0! | P9: =SUM(Q9:V9) -> 0 | W9: =SUM(R9:V9) -> 0 | X9: =W9/#REF!*100% -> #REF! | AE9: =SUM(Z9:AD9) -> 0 | AF9: =AE9/#REF!*100% -> #REF! | AG9: =(F9-#REF!) -> #REF!
D10: 2 | M10: =SUM(G10:L10) -> 0 | N10: =SUM(H10:L10) -> 0 | O10: =N10/M10*100% -> #DIV/0! | P10: =SUM(Q10:V10) -> 0 | W10: =SUM(R10:V10) -> 0 | X10: =W10/#REF!*100% -> #REF! | AE10: =SUM(Z10:AD10) -> 0 | AF10: =AE10/#REF!*100% -> #REF! | AG10: =(F10-#REF!) -> #REF!
D11: 3 | M11: =SUM(G11:L11) -> 0 | N11: =SUM(H11:L11) -> 0 | O11: =N11/M11*100% -> #DIV/0! | P11: =SUM(Q11:V11) -> 0 | W11: =SUM(R11:V11) -> 0 | X11: =W11/#REF!*100% -> #REF! | AE11: =SUM(Z11:AD11) -> 0 | AF11: =AE11/#REF!*100% -> #REF! | AG11: =(F11-#REF!) -> #REF!
D12: 4 | M12: =SUM(G12:L12) -> 0 | N12: =SUM(H12:L12) -> 0 | O12: =N12/M12*100% -> #DIV/0! | P12: =SUM(Q12:V12) -> 0 | W12: =SUM(R12:V12) -> 0 | X12: =W12/#REF!*100% -> #REF! | AE12: =SUM(Z12:AD12) -> 0 | AF12: =AE12/#REF!*100% -> #REF! | AG12: =(F12-#REF!) -> #REF!
D13: 5 | M13: =SUM(G13:L13) -> 0 | N13: =SUM(H13:L13) -> 0 | O13: =N13/M13*100% -> #DIV/0! | P13: =SUM(Q13:V13) -> 0 | W13: =SUM(R13:V13) -> 0 | X13: =W13/#REF!*100% -> #REF! | AE13: =SUM(Z13:AD13) -> 0 | AF13: =AE13/#REF!*100% -> #REF! | AG13: =(F13-#REF!) -> #REF!
D14: 6 | M14: =SUM(G14:L14) -> 0 | N14: =SUM(H14:L14) -> 0 | O14: =N14/M14*100% -> #DIV/0! | P14: =SUM(Q14:V14) -> 0 | W14: =SUM(R14:V14) -> 0 | X14: =W14/#REF!*100% -> #REF! | AE14: =SUM(Z14:AD14) -> 0 | AF14: =AE14/#REF!*100% -> #REF! | AG14: =(F14-#REF!) -> #REF!
D15: 7 | M15: =SUM(G15:L15) -> 0 | N15: =SUM(H15:L15) -> 0 | O15: =N15/M15*100% -> #DIV/0! | P15: =SUM(Q15:V15) -> 0 | W15: =SUM(R15:V15) -> 0 | X15: =W15/#REF!*100% -> #REF! | AE15: =SUM(Z15:AD15) -> 0 | AF15: =AE15/#REF!*100% -> #REF! | AG15: =(F15-#REF!) -> #REF!
D16: 8 | M16: =SUM(G16:L16) -> 0 | N16: =SUM(H16:L16) -> 0 | O16: =N16/M16*100% -> #DIV/0! | P16: =SUM(Q16:V16) -> 0 | W16: =SUM(R16:V16) -> 0 | X16: =W16/#REF!*100% -> #REF! | AE16: =SUM(Z16:AD16) -> 0 | AF16: =AE16/#REF!*100% -> #REF! | AG16: =(F16-#REF!) -> #REF!
D17: 9 | M17: =SUM(G17:L17) -> 0 | N17: =SUM(H17:L17) -> 0 | O17: =N17/M17*100% -> #DIV/0! | P17: =SUM(Q17:V17) -> 0 | W17: =SUM(R17:V17) -> 0 | X17: =W17/#REF!*100% -> #REF! | AE17: =SUM(Z17:AD17) -> 0 | AF17: =AE17/#REF!*100% -> #REF! | AG17: =(F17-#REF!) -> #REF!
D18: 10 | M18: =SUM(G18:L18) -> 0 | N18: =SUM(H18:L18) -> 0 | O18: =N18/M18*100% -> #DIV/0! | P18: =SUM(Q18:V18) -> 0 | W18: =SUM(R18:V18) -> 0 | X18: =W18/#REF!*100% -> #REF! | AE18: =SUM(Z18:AD18) -> 0 | AF18: =AE18/#REF!*100% -> #REF! | AG18: =(F18-#REF!) -> #REF!
D19: 11 | M19: =SUM(G19:L19) -> 0 | N19: =SUM(H19:L19) -> 0 | O19: =N19/M19*100% -> #DIV/0! | P19: =SUM(Q19:V19) -> 0 | W19: =SUM(R19:V19) -> 0 | X19: =W19/#REF!*100% -> #REF! | AE19: =SUM(Z19:AD19) -> 0 | AF19: =AE19/#REF!*100% -> #REF! | AG19: =(F19-#REF!) -> #REF!
D20: 12 | M20: =SUM(G20:L20) -> 0 | N20: =SUM(H20:L20) -> 0 | O20: =N20/M20*100% -> #DIV/0! | P20: =SUM(Q20:V20) -> 0 | W20: =SUM(R20:V20) -> 0 | X20: =W20/#REF!*100% -> #REF! | AE20: =SUM(Z20:AD20) -> 0 | AF20: =AE20/#REF!*100% -> #REF! | AG20: =(F20-#REF!) -> #REF!
... D32: 24 | M32: =SUM(G32:L32) -> 0 | N32: =SUM(H32:L32) -> 0 | O32: =N32/M32*100% -> #DIV/0! | P32: =SUM(Q32:V32) -> 0 | W32: =SUM(R32:V32) -> 0 | X32: =W32/#REF!*100% -> #REF! | AE32: =SUM(Z32:AD32) -> 0 | AF32: =AE32/#REF!*100% -> #REF! | AG32: =(F32-#REF!) -> #REF!
D33: المجموع | F33: =SUM(F9:F32) -> 0 | H33: =SUM(H9:H32) -> 0 | I33: =SUM(I9:I32) -> 0 | J33: =SUM(J9:J32) -> 0 | K33: =SUM(K9:K32) -> 0 | L33: =SUM(L9:L32) -> 0 | M33: =SUM(G33:L33) -> 0 | N33: =SUM(H33:L33) -> 0 | O33: =N33/M33*100% -> #DIV/0! | P33: =SUM(Q33:V33) -> 0 | Q33: =SUM(Q9:Q32) -> 0 | R33: =SUM(R9:R32) -> 0 | S33: =SUM(S9:S32) -> 0 | T33: =SUM(T9:T32) -> 0 | U33: =SUM(U9:U32) -> 0 | V33: =SUM(V9:V32) -> 0 | W33: =SUM(R33:V33) -> 0 | X33: =W33/#REF!*100% -> #REF! | Y33: =SUM(Y9:Y32) -> 0 | Z33: =SUM(Z9:Z32) -> 0 | AA33: =SUM(AA9:AA32) -> 0 | AB33: =SUM(AB9:AB32) -> 0 | AC33: =SUM(AC9:AC32) -> 0 | AD33: =SUM(AD9:AD32) -> 0 | AE33: =SUM(Z33:AD33) -> 0 | AF33: =AE33/#REF!*100% -> #REF! | AG33: =(F33-#REF!) -> #REF!
D35: وزارة التربية
D36: الإدارة العامة لمنطقة …………………... التعليمية
D37: مدرسة :
D38: الصف ( الثاني ) | Z38: الفترة : .................
D39: الفترة : آخر العام
D40: م | E40: الصف | F40: الاجمالى | G40: فئات الدرجات | M40: عدد المتقدمين | N40: عدد الناجحين | O40: النسبة المئوية | P40: متقدم | Q40: الامتحان التحريري ( 30 ) | W40: عدد الناجحين | X40: النسبة المئوية | Y40: الدرجة النهائية ( 50 ) | AE40: عدد الناجحين | AF40: النسبة المئوية | AG40: غائب
Q41: ضعيف | R41: مقبول | S41: مقبول | T41: جيد | U41: جيدجدا | V41: ممتاز | Y41: ضعيف | Z41: مقبول | AA41: مقبول | AB41: جيد | AC41: جيدجدا | AD41: ممتاز
G42: 0 - 39.5 | H42: 40 - 49.5 | I42: 50 - 59.5 | J42: 60 - 74.5 | K42: 75 - 89.5 | L42: 90 - 100 | Q42: 0 - 14.5 | R42: 15 | S42: 15.5 - 20.5 | T42: 21 - 26.5 | U42: 27 - 29.5 | V42: 30 | Y42: 0 - 24.5 | Z42: 25 | AA42: 25.5 - 34.5 | AB42: 35 - 44.5 | AC42: 45 - 49.5 | AD42: 50
D43: 1 | M43: =SUM(G43:L43) -> 0 | N43: =SUM(H43:L43) -> 0 | O43: =N43/M43*100% -> #DIV/0! | P43: =SUM(Q43:V43) -> 0 | W43: =SUM(R43:V43) -> 0 | X43: =W43/#REF!*100% -> #REF! | AE43: =SUM(Z43:AD43) -> 0 | AF43: =AE43/#REF!*100% -> #REF! | AG43: =(F43-#REF!) -> #REF!
D44: 2 | M44: =SUM(G44:L44) -> 0 | N44: =SUM(H44:L44) -> 0 | O44: =N44/M44*100% -> #DIV/0! | P44: =SUM(Q44:V44) -> 0 | W44: =SUM(R44:V44) -> 0 | X44: =W44/#REF!*100% -> #REF! | AE44: =SUM(Z44:AD44) -> 0 | AF44: =AE44/#REF!*100% -> #REF! | AG44: =(F44-#REF!) -> #REF!
D45: 3 | M45: =SUM(G45:L45) -> 0 | N45: =SUM(H45:L45) -> 0 | O45: =N45/M45*100% -> #DIV/0! | P45: =SUM(Q45:V45) -> 0 | W45: =SUM(R45:V45) -> 0 | X45: =W45/#REF!*100% -> #REF! | AE45: =SUM(Z45:AD45) -> 0 | AF45: =AE45/#REF!*100% -> #REF! | AG45: =(F45-#REF!) -> #REF!
D46: 4 | M46: =SUM(G46:L46) -> 0 | N46: =SUM(H46:L46) -> 0 | O46: =N46/M46*100% -> #DIV/0! | P46: =SUM(Q46:V46) -> 0 | W46: =SUM(R46:V46) -> 0 | X46: =W46/#REF!*100% -> #REF! | AE46: =SUM(Z46:AD46) -> 0 | AF46: =AE46/#REF!*100% -> #REF! | AG46: =(F46-#REF!) -> #REF!
D47: 5 | M47: =SUM(G47:L47) -> 0 | N47: =SUM(H47:L47) -> 0 | O47: =N47/M47*100% -> #DIV/0! | P47: =SUM(Q47:V47) -> 0 | W47: =SUM(R47:V47) -> 0 | X47: =W47/#REF!*100% -> #REF! | AE47: =SUM(Z47:AD47) -> 0 | AF47: =AE47/#REF!*100% -> #REF! | AG47: =(F47-#REF!) -> #REF!
D48: 6 | M48: =SUM(G48:L48) -> 0 | N48: =SUM(H48:L48) -> 0 | O48: =N48/M48*100% -> #DIV/0! | P48: =SUM(Q48:V48) -> 0 | W48: =SUM(R48:V48) -> 0 | X48: =W48/#REF!*100% -> #REF! | AE48: =SUM(Z48:AD48) -> 0 | AF48: =AE48/#REF!*100% -> #REF! | AG48: =(F48-#REF!) -> #REF!
D49: 7 | M49: =SUM(G49:L49) -> 0 | N49: =SUM(H49:L49) -> 0 | O49: =N49/M49*100% -> #DIV/0! | P49: =SUM(Q49:V49) -> 0 | W49: =SUM(R49:V49) -> 0 | X49: =W49/#REF!*100% -> #REF! | AE49: =SUM(Z49:AD49) -> 0 | AF49: =AE49/#REF!*100% -> #REF! | AG49: =(F49-#REF!) -> #REF!
D50: 8 | M50: =SUM(G50:L50) -> 0 | N50: =SUM(H50:L50) -> 0 | O50: =N50/M50*100% -> #DIV/0! | P50: =SUM(Q50:V50) -> 0 | W50: =SUM(R50:V50) -> 0 | X50: =W50/#REF!*100% -> #REF! | AE50: =SUM(Z50:AD50) -> 0 | AF50: =AE50/#REF!*100% -> #REF! | AG50: =(F50-#REF!) -> #REF!
D51: 9 | M51: =SUM(G51:L51) -> 0 | N51: =SUM(H51:L51) -> 0 | O51: =N51/M51*100% -> #DIV/0! | P51: =SUM(Q51:V51) -> 0 | W51: =SUM(R51:V51) -> 0 | X51: =W51/#REF!*100% -> #REF! | AE51: =SUM(Z51:AD51) -> 0 | AF51: =AE51/#REF!*100% -> #REF! | AG51: =(F51-#REF!) -> #REF!
D52: 10 | M52: =SUM(G52:L52) -> 0 | N52: =SUM(H52:L52) -> 0 | O52: =N52/M52*100% -> #DIV/0! | P52: =SUM(Q52:V52) -> 0 | W52: =SUM(R52:V52) -> 0 | X52: =W52/#REF!*100% -> #REF! | AE52: =SUM(Z52:AD52) -> 0 | AF52: =AE52/#REF!*100% -> #REF! | AG52: =(F52-#REF!) -> #REF!
D53: 11 | M53: =SUM(G53:L53) -> 0 | N53: =SUM(H53:L53) -> 0 | O53: =N53/M53*100% -> #DIV/0! | P53: =SUM(Q53:V53) -> 0 | W53: =SUM(R53:V53) -> 0 | X53: =W53/#REF!*100% -> #REF! | AE53: =SUM(Z53:AD53) -> 0 | AF53: =AE53/#REF!*100% -> #REF! | AG53: =(F53-#REF!) -> #REF!
D54: 12 | M54: =SUM(G54:L54) -> 0 | N54: =SUM(H54:L54) -> 0 | O54: =N54/M54*100% -> #DIV/0! | P54: =SUM(Q54:V54) -> 0 | W54: =SUM(R54:V54) -> 0 | X54: =W54/#REF!*100% -> #REF! | AE54: =SUM(Z54:AD54) -> 0 | AF54: =AE54/#REF!*100% -> #REF! | AG54: =(F54-#REF!) -> #REF!
... D66: 24 | M66: =SUM(G66:L66) -> 0 | N66: =SUM(H66:L66) -> 0 | O66: =N66/M66*100% -> #DIV/0! | P66: =SUM(Q66:V66) -> 0 | W66: =SUM(R66:V66) -> 0 | X66: =W66/#REF!*100% -> #REF! | AE66: =SUM(Z66:AD66) -> 0 | AF66: =AE66/#REF!*100% -> #REF! | AG66: =(F66-#REF!) -> #REF!
D67: المجموع | F67: =SUM(F43:F66) -> 0 | H67: =SUM(H43:H66) -> 0 | I67: =SUM(I43:I66) -> 0 | J67: =SUM(J43:J66) -> 0 | K67: =SUM(K43:K66) -> 0 | L67: =SUM(L43:L66) -> 0 | M67: =SUM(G67:L67) -> 0 | N67: =SUM(H67:L67) -> 0 | O67: =N67/M67*100% -> #DIV/0! | P67: =SUM(Q67:V67) -> 0 | Q67: =SUM(Q43:Q66) -> 0 | R67: =SUM(R43:R66) -> 0 | S67: =SUM(S43:S66) -> 0 | T67: =SUM(T43:T66) -> 0 | U67: =SUM(U43:U66) -> 0 | V67: =SUM(V43:V66) -> 0 | W67: =SUM(R67:V67) -> 0 | X67: =W67/#REF!*100% -> #REF! | Y67: =SUM(Y43:Y66) -> 0 | Z67: =SUM(Z43:Z66) -> 0 | AA67: =SUM(AA43:AA66) -> 0 | AB67: =SUM(AB43:AB66) -> 0 | AC67: =SUM(AC43:AC66) -> 0 | AD67: =SUM(AD43:AD66) -> 0 | AE67: =SUM(Z67:AD67) -> 0 | AF67: =AE67/#REF!*100% -> #REF! | AG67: =(F67-#REF!) -> #REF!
D69: وزارة التربية
D70: الإدارة العامة لمنطقة …………………... التعليمية
D71: مدرسة :
D72: الصف ( الثالث ) | Z72: الفترة : .................
D73: الفترة : آخر العام
D74: م | E74: الصف | F74: الاجمالى | G74: فئات الدرجات | M74: عدد المتقدمين | N74: عدد الناجحين | O74: النسبة المئوية | P74: متقدم | Q74: الامتحان التحريري ( 30 ) | W74: عدد الناجحين | X74: النسبة المئوية | Y74: الدرجة النهائية ( 50 ) | AE74: عدد الناجحين | AF74: النسبة المئوية | AG74: غائب
Q75: ضعيف | R75: مقبول | S75: مقبول | T75: جيد | U75: جيدجدا | V75: ممتاز | Y75: ضعيف | Z75: مقبول | AA75: مقبول | AB75: جيد | AC75: جيدجدا | AD75: ممتاز
G76: 0 - 39.5 | H76: 40 - 49.5 | I76: 50 - 59.5 | J76: 60 - 74.5 | K76: 75 - 89.5 | L76: 90 - 100 | Q76: 0 - 14.5 | R76: 15 | S76: 15.5 - 20.5 | T76: 21 - 26.5 | U76: 27 - 29.5 | V76: 30 | Y76: 0 - 24.5 | Z76: 25 | AA76: 25.5 - 34.5 | AB76: 35 - 44.5 | AC76: 45 - 49.5 | AD76: 50
D77: 1 | M77: =SUM(G77:L77) -> 0 | N77: =SUM(H77:L77) -> 0 | O77: =N77/M77*100% -> #DIV/0! | P77: =SUM(Q77:V77) -> 0 | W77: =SUM(R77:V77) -> 0 | X77: =W77/#REF!*100% -> #REF! | AE77: =SUM(Z77:AD77) -> 0 | AF77: =AE77/#REF!*100% -> #REF! | AG77: =(F77-#REF!) -> #REF!
D78: 2 | M78: =SUM(G78:L78) -> 0 | N78: =SUM(H78:L78) -> 0 | O78: =N78/M78*100% -> #DIV/0! | P78: =SUM(Q78:V78) -> 0 | W78: =SUM(R78:V78) -> 0 | X78: =W78/#REF!*100% -> #REF! | AE78: =SUM(Z78:AD78) -> 0 | AF78: =AE78/#REF!*100% -> #REF! | AG78: =(F78-#REF!) -> #REF!
D79: 3 | M79: =SUM(G79:L79) -> 0 | N79: =SUM(H79:L79) -> 0 | O79: =N79/M79*100% -> #DIV/0! | P79: =SUM(Q79:V79) -> 0 | W79: =SUM(R79:V79) -> 0 | X79: =W79/#REF!*100% -> #REF! | AE79: =SUM(Z79:AD79) -> 0 | AF79: =AE79/#REF!*100% -> #REF! | AG79: =(F79-#REF!) -> #REF!
D80: 4 | M80: =SUM(G80:L80) -> 0 | N80: =SUM(H80:L80) -> 0 | O80: =N80/M80*100% -> #DIV/0! | P80: =SUM(Q80:V80) -> 0 | W80: =SUM(R80:V80) -> 0 | X80: =W80/#REF!*100% -> #REF! | AE80: =SUM(Z80:AD80) -> 0 | AF80: =AE80/#REF!*100% -> #REF! | AG80: =(F80-#REF!) -> #REF!
D81: 5 | M81: =SUM(G81:L81) -> 0 | N81: =SUM(H81:L81) -> 0 | O81: =N81/M81*100% -> #DIV/0! | P81: =SUM(Q81:V81) -> 0 | W81: =SUM(R81:V81) -> 0 | X81: =W81/#REF!*100% -> #REF! | AE81: =SUM(Z81:AD81) -> 0 | AF81: =AE81/#REF!*100% -> #REF! | AG81: =(F81-#REF!) -> #REF!
D82: 6 | M82: =SUM(G82:L82) -> 0 | N82: =SUM(H82:L82) -> 0 | O82: =N82/M82*100% -> #DIV/0! | P82: =SUM(Q82:V82) -> 0 | W82: =SUM(R82:V82) -> 0 | X82: =W82/#REF!*100% -> #REF! | AE82: =SUM(Z82:AD82) -> 0 | AF82: =AE82/#REF!*100% -> #REF! | AG82: =(F82-#REF!) -> #REF!
D83: 7 | M83: =SUM(G83:L83) -> 0 | N83: =SUM(H83:L83) -> 0 | O83: =N83/M83*100% -> #DIV/0! | P83: =SUM(Q83:V83) -> 0 | W83: =SUM(R83:V83) -> 0 | X83: =W83/#REF!*100% -> #REF! | AE83: =SUM(Z83:AD83) -> 0 | AF83: =AE83/#REF!*100% -> #REF! | AG83: =(F83-#REF!) -> #REF!
D84: 8 | M84: =SUM(G84:L84) -> 0 | N84: =SUM(H84:L84) -> 0 | O84: =N84/M84*100% -> #DIV/0! | P84: =SUM(Q84:V84) -> 0 | W84: =SUM(R84:V84) -> 0 | X84: =W84/#REF!*100% -> #REF! | AE84: =SUM(Z84:AD84) -> 0 | AF84: =AE84/#REF!*100% -> #REF! | AG84: =(F84-#REF!) -> #REF!
D85: 9 | M85: =SUM(G85:L85) -> 0 | N85: =SUM(H85:L85) -> 0 | O85: =N85/M85*100% -> #DIV/0! | P85: =SUM(Q85:V85) -> 0 | W85: =SUM(R85:V85) -> 0 | X85: =W85/#REF!*100% -> #REF! | AE85: =SUM(Z85:AD85) -> 0 | AF85: =AE85/#REF!*100% -> #REF! | AG85: =(F85-#REF!) -> #REF!
D86: 10 | M86: =SUM(G86:L86) -> 0 | N86: =SUM(H86:L86) -> 0 | O86: =N86/M86*100% -> #DIV/0! | P86: =SUM(Q86:V86) -> 0 | W86: =SUM(R86:V86) -> 0 | X86: =W86/#REF!*100% -> #REF! | AE86: =SUM(Z86:AD86) -> 0 | AF86: =AE86/#REF!*100% -> #REF! | AG86: =(F86-#REF!) -> #REF!
D87: 11 | M87: =SUM(G87:L87) -> 0 | N87: =SUM(H87:L87) -> 0 | O87: =N87/M87*100% -> #DIV/0! | P87: =SUM(Q87:V87) -> 0 | W87: =SUM(R87:V87) -> 0 | X87: =W87/#REF!*100% -> #REF! | AE87: =SUM(Z87:AD87) -> 0 | AF87: =AE87/#REF!*100% -> #REF! | AG87: =(F87-#REF!) -> #REF!
D88: 12 | M88: =SUM(G88:L88) -> 0 | N88: =SUM(H88:L88) -> 0 | O88: =N88/M88*100% -> #DIV/0! | P88: =SUM(Q88:V88) -> 0 | W88: =SUM(R88:V88) -> 0 | X88: =W88/#REF!*100% -> #REF! | AE88: =SUM(Z88:AD88) -> 0 | AF88: =AE88/#REF!*100% -> #REF! | AG88: =(F88-#REF!) -> #REF!
... D100: 24 | M100: =SUM(G100:L100) -> 0 | N100: =SUM(H100:L100) -> 0 | O100: =N100/M100*100% -> #DIV/0! | P100: =SUM(Q100:V100) -> 0 | W100: =SUM(R100:V100) -> 0 | X100: =W100/#REF!*100% -> #REF! | AE100: =SUM(Z100:AD100) -> 0 | AF100: =AE100/#REF!*100% -> #REF! | AG100: =(F100-#REF!) -> #REF!
D101: المجموع | F101: =SUM(F77:F100) -> 0 | G101: =SUM(G77:G100) -> 0 | H101: =SUM(H77:H100) -> 0 | I101: =SUM(I77:I100) -> 0 | J101: =SUM(J77:J100) -> 0 | K101: =SUM(K77:K100) -> 0 | L101: =SUM(L77:L100) -> 0 | M101: =SUM(G101:L101) -> 0 | N101: =SUM(H101:L101) -> 0 | O101: =N101/M101*100% -> #DIV/0! | P101: =SUM(Q101:V101) -> 0 | Q101: =SUM(Q77:Q100) -> 0 | R101: =SUM(R77:R100) -> 0 | S101: =SUM(S77:S100) -> 0 | T101: =SUM(T77:T100) -> 0 | U101: =SUM(U77:U100) -> 0 | V101: =SUM(V77:V100) -> 0 | W101: =SUM(R101:V101) -> 0 | X101: =W101/#REF!*100% -> #REF! | Y101: =SUM(Y77:Y100) -> 0 | Z101: =SUM(Z77:Z100) -> 0 | AA101: =SUM(AA77:AA100) -> 0 | AB101: =SUM(AB77:AB100) -> 0 | AC101: =SUM(AC77:AC100) -> 0 | AD101: =SUM(AD77:AD100) -> 0 | AE101: =SUM(Z101:AD101) -> 0 | AF101: =AE101/#REF!*100% -> #REF! | AG101: =(F101-#REF!) -> #REF!
D103: وزارة التربية
D104: الإدارة العامة لمنطقة …………………... التعليمية
D105: مدرسة :
D106: الصف ( الرابع ) | Z106: الفترة : .................
D107: الفترة : آخر العام
D108: م | E108: الصف | F108: الاجمالى | G108: فئات الدرجات | M108: عدد المتقدمين | N108: عدد الناجحين | O108: النسبة المئوية | P108: متقدم | Q108: الامتحان التحريري ( 30 ) | W108: عدد الناجحين | X108: النسبة المئوية | Y108: الدرجة النهائية ( 50 ) | AE108: عدد الناجحين | AF108: النسبة المئوية | AG108: غائب
Q109: ضعيف | R109: مقبول | S109: مقبول | T109: جيد | U109: جيدجدا | V109: ممتاز | Y109: ضعيف | Z109: مقبول | AA109: مقبول | AB109: جيد | AC109: جيدجدا | AD109: ممتاز
G110: 0 - 39.5 | H110: 40 - 49.5 | I110: 50 - 59.5 | J110: 60 - 74.5 | K110: 75 - 89.5 | L110: 90 - 100 | Q110: 0 - 14.5 | R110: 15 | S110: 15.5 - 20.5 | T110: 21 - 26.5 | U110: 27 - 29.5 | V110: 30 | Y110: 0 - 24.5 | Z110: 25 | AA110: 25.5 - 34.5 | AB110: 35 - 44.5 | AC110: 45 - 49.5 | AD110: 50
D111: 1 | M111: =SUM(G111:L111) -> 0 | N111: =SUM(H111:L111) -> 0 | O111: =N111/M111*100% -> #DIV/0! | P111: =SUM(Q111:V111) -> 0 | W111: =SUM(R111:V111) -> 0 | X111: =W111/#REF!*100% -> #REF! | AE111: =SUM(Z111:AD111) -> 0 | AF111: =AE111/#REF!*100% -> #REF! | AG111: =(F111-#REF!) -> #REF!
D112: 2 | M112: =SUM(G112:L112) -> 0 | N112: =SUM(H112:L112) -> 0 | O112: =N112/M112*100% -> #DIV/0! | P112: =SUM(Q112:V112) -> 0 | W112: =SUM(R112:V112) -> 0 | X112: =W112/#REF!*100% -> #REF! | AE112: =SUM(Z112:AD112) -> 0 | AF112: =AE112/#REF!*100% -> #REF! | AG112: =(F112-#REF!) -> #REF!
D113: 3 | M113: =SUM(G113:L113) -> 0 | N113: =SUM(H113:L113) -> 0 | O113: =N113/M113*100% -> #DIV/0! | P113: =SUM(Q113:V113) -> 0 | W113: =SUM(R113:V113) -> 0 | X113: =W113/#REF!*100% -> #REF! | AE113: =SUM(Z113:AD113) -> 0 | AF113: =AE113/#REF!*100% -> #REF! | AG113: =(F113-#REF!) -> #REF!
D114: 4 | M114: =SUM(G114:L114) -> 0 | N114: =SUM(H114:L114) -> 0 | O114: =N114/M114*100% -> #DIV/0! | P114: =SUM(Q114:V114) -> 0 | W114: =SUM(R114:V114) -> 0 | X114: =W114/#REF!*100% -> #REF! | AE114: =SUM(Z114:AD114) -> 0 | AF114: =AE114/#REF!*100% -> #REF! | AG114: =(F114-#REF!) -> #REF!
D115: 5 | M115: =SUM(G115:L115) -> 0 | N115: =SUM(H115:L115) -> 0 | O115: =N115/M115*100% -> #DIV/0! | P115: =SUM(Q115:V115) -> 0 | W115: =SUM(R115:V115) -> 0 | X115: =W115/#REF!*100% -> #REF! | AE115: =SUM(Z115:AD115) -> 0 | AF115: =AE115/#REF!*100% -> #REF! | AG115: =(F115-#REF!) -> #REF!
D116: 6 | M116: =SUM(G116:L116) -> 0 | N116: =SUM(H116:L116) -> 0 | O116: =N116/M116*100% -> #DIV/0! | P116: =SUM(Q116:V116) -> 0 | W116: =SUM(R116:V116) -> 0 | X116: =W116/#REF!*100% -> #REF! | AE116: =SUM(Z116:AD116) -> 0 | AF116: =AE116/#REF!*100% -> #REF! | AG116: =(F116-#REF!) -> #REF!
D117: 7 | M117: =SUM(G117:L117) -> 0 | N117: =SUM(H117:L117) -> 0 | O117: =N117/M117*100% -> #DIV/0! | P117: =SUM(Q117:V117) -> 0 | W117: =SUM(R117:V117) -> 0 | X117: =W117/#REF!*100% -> #REF! | AE117: =SUM(Z117:AD117) -> 0 | AF117: =AE117/#REF!*100% -> #REF! | AG117: =(F117-#REF!) -> #REF!
D118: 8 | M118: =SUM(G118:L118) -> 0 | N118: =SUM(H118:L118) -> 0 | O118: =N118/M118*100% -> #DIV/0! | P118: =SUM(Q118:V118) -> 0 | W118: =SUM(R118:V118) -> 0 | X118: =W118/#REF!*100% -> #REF! | AE118: =SUM(Z118:AD118) -> 0 | AF118: =AE118/#REF!*100% -> #REF! | AG118: =(F118-#REF!) -> #REF!
D119: 9 | M119: =SUM(G119:L119) -> 0 | N119: =SUM(H119:L119) -> 0 | O119: =N119/M119*100% -> #DIV/0! | P119: =SUM(Q119:V119) -> 0 | W119: =SUM(R119:V119) -> 0 | X119: =W119/#REF!*100% -> #REF! | AE119: =SUM(Z119:AD119) -> 0 | AF119: =AE119/#REF!*100% -> #REF! | AG119: =(F119-#REF!) -> #REF!
D120: 10 | M120: =SUM(G120:L120) -> 0 | N120: =SUM(H120:L120) -> 0 | O120: =N120/M120*100% -> #DIV/0! | P120: =SUM(Q120:V120) -> 0 | W120: =SUM(R120:V120) -> 0 | X120: =W120/#REF!*100% -> #REF! | AE120: =SUM(Z120:AD120) -> 0 | AF120: =AE120/#REF!*100% -> #REF! | AG120: =(F120-#REF!) -> #REF!
D121: 11 | M121: =SUM(G121:L121) -> 0 | N121: =SUM(H121:L121) -> 0 | O121: =N121/M121*100% -> #DIV/0! | P121: =SUM(Q121:V121) -> 0 | W121: =SUM(R121:V121) -> 0 | X121: =W121/#REF!*100% -> #REF! | AE121: =SUM(Z121:AD121) -> 0 | AF121: =AE121/#REF!*100% -> #REF! | AG121: =(F121-#REF!) -> #REF!
D122: 12 | M122: =SUM(G122:L122) -> 0 | N122: =SUM(H122:L122) -> 0 | O122: =N122/M122*100% -> #DIV/0! | P122: =SUM(Q122:V122) -> 0 | W122: =SUM(R122:V122) -> 0 | X122: =W122/#REF!*100% -> #REF! | AE122: =SUM(Z122:AD122) -> 0 | AF122: =AE122/#REF!*100% -> #REF! | AG122: =(F122-#REF!) -> #REF!
... D134: 24 | M134: =SUM(G134:L134) -> 0 | N134: =SUM(H134:L134) -> 0 | O134: =N134/M134*100% -> #DIV/0! | P134: =SUM(Q134:V134) -> 0 | W134: =SUM(R134:V134) -> 0 | X134: =W134/#REF!*100% -> #REF! | AE134: =SUM(Z134:AD134) -> 0 | AF134: =AE134/#REF!*100% -> #REF! | AG134: =(F134-#REF!) -> #REF!
D135: المجموع | F135: =SUM(F111:F134) -> 0 | G135: =SUM(G111:G134) -> 0 | H135: =SUM(H111:H134) -> 0 | I135: =SUM(I111:I134) -> 0 | J135: =SUM(J111:J134) -> 0 | K135: =SUM(K111:K134) -> 0 | L135: =SUM(L111:L134) -> 0 | M135: =SUM(G135:L135) -> 0 | N135: =SUM(H135:L135) -> 0 | O135: =N135/M135*100% -> #DIV/0! | P135: =SUM(Q135:V135) -> 0 | Q135: =SUM(Q111:Q134) -> 0 | R135: =SUM(R111:R134) -> 0 | S135: =SUM(S111:S134) -> 0 | T135: =SUM(T111:T134) -> 0 | U135: =SUM(U111:U134) -> 0 | V135: =SUM(V111:V134) -> 0 | W135: =SUM(R135:V135) -> 0 | X135: =W135/#REF!*100% -> #REF! | Y135: =SUM(Y111:Y134) -> 0 | Z135: =SUM(Z111:Z134) -> 0 | AA135: =SUM(AA111:AA134) -> 0 | AB135: =SUM(AB111:AB134) -> 0 | AC135: =SUM(AC111:AC134) -> 0 | AD135: =SUM(AD111:AD134) -> 0 | AE135: =SUM(Z135:AD135) -> 0 | AF135: =AE135/#REF!*100% -> #REF! | AG135: =(F135-#REF!) -> #REF!
D139: وزارة التربية
D140: الإدارة العامة لمنطقة …………………... التعليمية
D141: مدرسة :
D142: الصف ( الخامس ) | Z142: الفترة : .................
D143: الفترة : آخر العام
D144: م | E144: الصف | F144: الاجمالى | G144: فئات الدرجات | M144: عدد المتقدمين | N144: عدد الناجحين | O144: النسبة المئوية | P144: متقدم | Q144: الامتحان التحريري ( 30 ) | W144: عدد الناجحين | X144: النسبة المئوية | Y144: الدرجة النهائية ( 50 ) | AE144: عدد الناجحين | AF144: النسبة المئوية | AG144: غائب
Q145: ضعيف | R145: مقبول | S145: مقبول | T145: جيد | U145: جيدجدا | V145: ممتاز | Y145: ضعيف | Z145: مقبول | AA145: مقبول | AB145: جيد | AC145: جيدجدا | AD145: ممتاز
G146: 0 - 39.5 | H146: 40 - 49.5 | I146: 50 - 59.5 | J146: 60 - 74.5 | K146: 75 - 89.5 | L146: 90 - 100 | Q146: 0 - 14.5 | R146: 15 | S146: 15.5 - 20.5 | T146: 21 - 26.5 | U146: 27 - 29.5 | V146: 30 | Y146: 0 - 24.5 | Z146: 25 | AA146: 25.5 - 34.5 | AB146: 35 - 44.5 | AC146: 45 - 49.5 | AD146: 50
D147: 1 | M147: =SUM(G147:L147) -> 0 | N147: =SUM(H147:L147) -> 0 | O147: =N147/M147*100% -> #DIV/0! | P147: =SUM(Q147:V147) -> 0 | W147: =SUM(R147:V147) -> 0 | X147: =W147/#REF!*100% -> #REF! | AE147: =SUM(Z147:AD147) -> 0 | AF147: =AE147/#REF!*100% -> #REF! | AG147: =(F147-#REF!) -> #REF!
D148: 2 | M148: =SUM(G148:L148) -> 0 | N148: =SUM(H148:L148) -> 0 | O148: =N148/M148*100% -> #DIV/0! | P148: =SUM(Q148:V148) -> 0 | W148: =SUM(R148:V148) -> 0 | X148: =W148/#REF!*100% -> #REF! | AE148: =SUM(Z148:AD148) -> 0 | AF148: =AE148/#REF!*100% -> #REF! | AG148: =(F148-#REF!) -> #REF!
D149: 3 | M149: =SUM(G149:L149) -> 0 | N149: =SUM(H149:L149) -> 0 | O149: =N149/M149*100% -> #DIV/0! | P149: =SUM(Q149:V149) -> 0 | W149: =SUM(R149:V149) -> 0 | X149: =W149/#REF!*100% -> #REF! | AE149: =SUM(Z149:AD149) -> 0 | AF149: =AE149/#REF!*100% -> #REF! | AG149: =(F149-#REF!) -> #REF!
D150: 4 | M150: =SUM(G150:L150) -> 0 | N150: =SUM(H150:L150) -> 0 | O150: =N150/M150*100% -> #DIV/0! | P150: =SUM(Q150:V150) -> 0 | W150: =SUM(R150:V150) -> 0 | X150: =W150/#REF!*100% -> #REF! | AE150: =SUM(Z150:AD150) -> 0 | AF150: =AE150/#REF!*100% -> #REF! | AG150: =(F150-#REF!) -> #REF!
...

Sheet المرحلة الابتدائية بنات
D1: وزارة التربية
D2: الإدارة العامة لمنطقة …………………... التعليمية
D3: مدرسة :
D4: الصف ( الأول ) | Z4: الفترة : .................
D5: الفترة : آخر العام
D6: م | E6: الصف | F6: الاجمالى | G6: فئات الدرجات | M6: عدد المتقدمين | N6: عدد الناجحين | O6: النسبة المئوية | P6: متقدم | Q6: الامتحان التحريري ( 30 ) | W6: عدد الناجحين | X6: النسبة المئوية | Y6: الدرجة النهائية ( 50 ) | AE6: عدد الناجحين | AF6: النسبة المئوية | AG6: غائب
Q7: ضعيف | R7: مقبول | S7: مقبول | T7: جيد | U7: جيدجدا | V7: ممتاز | Y7: ضعيف | Z7: مقبول | AA7: مقبول | AB7: جيد | AC7: جيدجدا | AD7: ممتاز
G8: 0 - 39.5 | H8: 40 - 49.5 | I8: 50 - 59.5 | J8: 60 - 74.5 | K8: 75 - 89.5 | L8: 90 - 100 | Q8: 0 - 14.5 | R8: 15 | S8: 15.5 - 20.5 | T8: 21 - 26.5 | U8: 27 - 29.5 | V8: 30 | Y8: 0 - 24.5 | Z8: 25 | AA8: 25.5 - 34.5 | AB8: 35 - 44.5 | AC8: 45 - 49.5 | AD8: 50
D9: 1 | M9: =SUM(G9:L9) -> 0 | N9: =SUM(H9:L9) -> 0 | O9: =N9/M9*100% -> #DIV/0! | P9: =SUM(Q9:V9) -> 0 | W9: =SUM(R9:V9) -> 0 | X9: =W9/#REF!*100% -> #REF! | AE9: =SUM(Z9:AD9) -> 0 | AF9: =AE9/#REF!*100% -> #REF! | AG9: =(F9-#REF!) -> #REF!
D10: 2 | M10: =SUM(G10:L10) -> 0 | N10: =SUM(H10:L10) -> 0 | O10: =N10/M10*100% -> #DIV/0! | P10: =SUM(Q10:V10) -> 0 | W10: =SUM(R10:V10) -> 0 | X10: =W10/#REF!*100% -> #REF! | AE10: =SUM(Z10:AD10) -> 0 | AF10: =AE10/#REF!*100% -> #REF! | AG10: =(F10-#REF!) -> #REF!
D11: 3 | M11: =SUM(G11:L11) -> 0 | N11: =SUM(H11:L11) -> 0 | O11: =N11/M11*100% -> #DIV/0! | P11: =SUM(Q11:V11) -> 0 | W11: =SUM(R11:V11) -> 0 | X11: =W11/#REF!*100% -> #REF! | AE11: =SUM(Z11:AD11) -> 0 | AF11: =AE11/#REF!*100% -> #REF! | AG11: =(F11-#REF!) -> #REF!
D12: 4 | M12: =SUM(G12:L12) -> 0 | N12: =SUM(H12:L12) -> 0 | O12: =N12/M12*100% -> #DIV/0! | P12: =SUM(Q12:V12) -> 0 | W12: =SUM(R12:V12) -> 0 | X12: =W12/#REF!*100% -> #REF! | AE12: =SUM(Z12:AD12) -> 0 | AF12: =AE12/#REF!*100% -> #REF! | AG12: =(F12-#REF!) -> #REF!
D13: 5 | M13: =SUM(G13:L13) -> 0 | N13: =SUM(H13:L13) -> 0 | O13: =N13/M13*100% -> #DIV/0! | P13: =SUM(Q13:V13) -> 0 | W13: =SUM(R13:V13) -> 0 | X13: =W13/#REF!*100% -> #REF! | AE13: =SUM(Z13:AD13) -> 0 | AF13: =AE13/#REF!*100% -> #REF! | AG13: =(F13-#REF!) -> #REF!
D14: 6 | M14: =SUM(G14:L14) -> 0 | N14: =SUM(H14:L14) -> 0 | O14: =N14/M14*100% -> #DIV/0! | P14: =SUM(Q14:V14) -> 0 | W14: =SUM(R14:V14) -> 0 | X14: =W14/#REF!*100% -> #REF! | AE14: =SUM(Z14:AD14) -> 0 | AF14: =AE14/#REF!*100% -> #REF! | AG14: =(F14-#REF!) -> #REF!
D15: 7 | M15: =SUM(G15:L15) -> 0 | N15: =SUM(H15:L15) -> 0 | O15: =N15/M15*100% -> #DIV/0! | P15: =SUM(Q15:V15) -> 0 | W15: =SUM(R15:V15) -> 0 | X15: =W15/#REF!*100% -> #REF! | AE15: =SUM(Z15:AD15) -> 0 | AF15: =AE15/#REF!*100% -> #REF! | AG15: =(F15-#REF!) -> #REF!
D16: 8 | M16: =SUM(G16:L16) -> 0 | N16: =SUM(H16:L16) -> 0 | O16: =N16/M16*100% -> #DIV/0! | P16: =SUM(Q16:V16) -> 0 | W16: =SUM(R16:V16) -> 0 | X16: =W16/#REF!*100% -> #REF! | AE16: =SUM(Z16:AD16) -> 0 | AF16: =AE16/#REF!*100% -> #REF! | AG16: =(F16-#REF!) -> #REF!
D17: 9 | M17: =SUM(G17:L17) -> 0 | N17: =SUM(H17:L17) -> 0 | O17: =N17/M17*100% -> #DIV/0! | P17: =SUM(Q17:V17) -> 0 | W17: =SUM(R17:V17) -> 0 | X17: =W17/#REF!*100% -> #REF! | AE17: =SUM(Z17:AD17) -> 0 | AF17: =AE17/#REF!*100% -> #REF! | AG17: =(F17-#REF!) -> #REF!
D18: 10 | M18: =SUM(G18:L18) -> 0 | N18: =SUM(H18:L18) -> 0 | O18: =N18/M18*100% -> #DIV/0! | P18: =SUM(Q18:V18) -> 0 | W18: =SUM(R18:V18) -> 0 | X18: =W18/#REF!*100% -> #REF! | AE18: =SUM(Z18:AD18) -> 0 | AF18: =AE18/#REF!*100% -> #REF! | AG18: =(F18-#REF!) -> #REF!
D19: 11 | M19: =SUM(G19:L19) -> 0 | N19: =SUM(H19:L19) -> 0 | O19: =N19/M19*100% -> #DIV/0! | P19: =SUM(Q19:V19) -> 0 | W19: =SUM(R19:V19) -> 0 | X19: =W19/#REF!*100% -> #REF! | AE19: =SUM(Z19:AD19) -> 0 | AF19: =AE19/#REF!*100% -> #REF! | AG19: =(F19-#REF!) -> #REF!
D20: 12 | M20: =SUM(G20:L20) -> 0 | N20: =SUM(H20:L20) -> 0 | O20: =N20/M20*100% -> #DIV/0! | P20: =SUM(Q20:V20) -> 0 | W20: =SUM(R20:V20) -> 0 | X20: =W20/#REF!*100% -> #REF! | AE20: =SUM(Z20:AD20) -> 0 | AF20: =AE20/#REF!*100% -> #REF! | AG20: =(F20-#REF!) -> #REF!
... D32: 24 | M32: =SUM(G32:L32) -> 0 | N32: =SUM(H32:L32) -> 0 | O32: =N32/M32*100% -> #DIV/0! | P32: =SUM(Q32:V32) -> 0 | W32: =SUM(R32:V32) -> 0 | X32: =W32/#REF!*100% -> #REF! | AE32: =SUM(Z32:AD32) -> 0 | AF32: =AE32/#REF!*100% -> #REF! | AG32: =(F32-#REF!) -> #REF!
D33: المجموع | F33: =SUM(F9:F32) -> 0 | G33: =SUM(G9:G32) -> 0 | H33: =SUM(H9:H32) -> 0 | I33: =SUM(I9:I32) -> 0 | J33: =SUM(J9:J32) -> 0 | K33: =SUM(K9:K32) -> 0 | L33: =SUM(L9:L32) -> 0 | M33: =SUM(G33:L33) -> 0 | N33: =SUM(H33:L33) -> 0 | O33: =N33/M33*100% -> #DIV/0! | P33: =SUM(Q33:V33) -> 0 | Q33: =SUM(Q9:Q32) -> 0 | R33: =SUM(R9:R32) -> 0 | S33: =SUM(S9:S32) -> 0 | T33: =SUM(T9:T32) -> 0 | U33: =SUM(U9:U32) -> 0 | V33: =SUM(V9:V32) -> 0 | W33: =SUM(R33:V33) -> 0 | X33: =W33/#REF!*100% -> #REF! | Y33: =SUM(Y9:Y32) -> 0 | Z33: =SUM(Z9:Z32) -> 0 | AA33: =SUM(AA9:AA32) -> 0 | AB33: =SUM(AB9:AB32) -> 0 | AC33: =SUM(AC9:AC32) -> 0 | AD33: =SUM(AD9:AD32) -> 0 | AE33: =SUM(Z33:AD33) -> 0 | AF33: =AE33/#REF!*100% -> #REF! | AG33: =(F33-#REF!) -> #REF!
D35: وزارة التربية
D36: الإدارة العامة لمنطقة …………………... التعليمية
D37: مدرسة :
D38: الصف ( الثاني ) | Z38: الفترة : .................
D39: الفترة : آخر العام
D40: م | E40: الصف | F40: الاجمالى | G40: فئات الدرجات | M40: عدد المتقدمين | N40: عدد الناجحين | O40: النسبة المئوية | P40: متقدم | Q40: الامتحان التحريري ( 30 ) | W40: عدد الناجحين | X40: النسبة المئوية | Y40: الدرجة النهائية ( 50 ) | AE40: عدد الناجحين | AF40: النسبة المئوية | AG40: غائب
Q41: ضعيف | R41: مقبول | S41: مقبول | T41: جيد | U41: جيدجدا | V41: ممتاز | Y41: ضعيف | Z41: مقبول | AA41: مقبول | AB41: جيد | AC41: جيدجدا | AD41: ممتاز
G42: 0 - 39.5 | H42: 40 - 49.5 | I42: 50 - 59.5 | J42: 60 - 74.5 | K42: 75 - 89.5 | L42: 90 - 100 | Q42: 0 - 14.5 | R42: 15 | S42: 15.5 - 20.5 | T42: 21 - 26.5 | U42: 27 - 29.5 | V42: 30 | Y42: 0 - 24.5 | Z42: 25 | AA42: 25.5 - 34.5 | AB42: 35 - 44.5 | AC42: 45 - 49.5 | AD42: 50
D43: 1 | M43: =SUM(G43:L43) -> 0 | N43: =SUM(H43:L43) -> 0 | O43: =N43/M43*100% -> #DIV/0! | P43: =SUM(Q43:V43) -> 0 | W43: =SUM(R43:V43) -> 0 | X43: =W43/#REF!*100% -> #REF! | AE43: =SUM(Z43:AD43) -> 0 | AF43: =AE43/#REF!*100% -> #REF! | AG43: =(F43-#REF!) -> #REF!
D44: 2 | M44: =SUM(G44:L44) -> 0 | N44: =SUM(H44:L44) -> 0 | O44: =N44/M44*100% -> #DIV/0! | P44: =SUM(Q44:V44) -> 0 | W44: =SUM(R44:V44) -> 0 | X44: =W44/#REF!*100% -> #REF! | AE44: =SUM(Z44:AD44) -> 0 | AF44: =AE44/#REF!*100% -> #REF! | AG44: =(F44-#REF!) -> #REF!
D45: 3 | M45: =SUM(G45:L45) -> 0 | N45: =SUM(H45:L45) -> 0 | O45: =N45/M45*100% -> #DIV/0! | P45: =SUM(Q45:V45) -> 0 | W45: =SUM(R45:V45) -> 0 | X45: =W45/#REF!*100% -> #REF! | AE45: =SUM(Z45:AD45) -> 0 | AF45: =AE45/#REF!*100% -> #REF! | AG45: =(F45-#REF!) -> #REF!
D46: 4 | M46: =SUM(G46:L46) -> 0 | N46: =SUM(H46:L46) -> 0 | O46: =N46/M46*100% -> #DIV/0! | P46: =SUM(Q46:V46) -> 0 | W46: =SUM(R46:V46) -> 0 | X46: =W46/#REF!*100% -> #REF! | AE46: =SUM(Z46:AD46) -> 0 | AF46: =AE46/#REF!*100% -> #REF! | AG46: =(F46-#REF!) -> #REF!
D47: 5 | M47: =SUM(G47:L47) -> 0 | N47: =SUM(H47:L47) -> 0 | O47: =N47/M47*100% -> #DIV/0! | P47: =SUM(Q47:V47) -> 0 | W47: =SUM(R47:V47) -> 0 | X47: =W47/#REF!*100% -> #REF! | AE47: =SUM(Z47:AD47) -> 0 | AF47: =AE47/#REF!*100% -> #REF! | AG47: =(F47-#REF!) -> #REF!
D48: 6 | M48: =SUM(G48:L48) -> 0 | N48: =SUM(H48:L48) -> 0 | O48: =N48/M48*100% -> #DIV/0! | P48: =SUM(Q48:V48) -> 0 | W48: =SUM(R48:V48) -> 0 | X48: =W48/#REF!*100% -> #REF! | AE48: =SUM(Z48:AD48) -> 0 | AF48: =AE48/#REF!*100% -> #REF! | AG48: =(F48-#REF!) -> #REF!
D49: 7 | M49: =SUM(G49:L49) -> 0 | N49: =SUM(H49:L49) -> 0 | O49: =N49/M49*100% -> #DIV/0! | P49: =SUM(Q49:V49) -> 0 | W49: =SUM(R49:V49) -> 0 | X49: =W49/#REF!*100% -> #REF! | AE49: =SUM(Z49:AD49) -> 0 | AF49: =AE49/#REF!*100% -> #REF! | AG49: =(F49-#REF!) -> #REF!
D50: 8 | M50: =SUM(G50:L50) -> 0 | N50: =SUM(H50:L50) -> 0 | O50: =N50/M50*100% -> #DIV/0! | P50: =SUM(Q50:V50) -> 0 | W50: =SUM(R50:V50) -> 0 | X50: =W50/#REF!*100% -> #REF! | AE50: =SUM(Z50:AD50) -> 0 | AF50: =AE50/#REF!*100% -> #REF! | AG50: =(F50-#REF!) -> #REF!
D51: 9 | M51: =SUM(G51:L51) -> 0 | N51: =SUM(H51:L51) -> 0 | O51: =N51/M51*100% -> #DIV/0! | P51: =SUM(Q51:V51) -> 0 | W51: =SUM(R51:V51) -> 0 | X51: =W51/#REF!*100% -> #REF! | AE51: =SUM(Z51:AD51) -> 0 | AF51: =AE51/#REF!*100% -> #REF! | AG51: =(F51-#REF!) -> #REF!
D52: 10 | M52: =SUM(G52:L52) -> 0 | N52: =SUM(H52:L52) -> 0 | O52: =N52/M52*100% -> #DIV/0! | P52: =SUM(Q52:V52) -> 0 | W52: =SUM(R52:V52) -> 0 | X52: =W52/#REF!*100% -> #REF! | AE52: =SUM(Z52:AD52) -> 0 | AF52: =AE52/#REF!*100% -> #REF! | AG52: =(F52-#REF!) -> #REF!
D53: 11 | M53: =SUM(G53:L53) -> 0 | N53: =SUM(H53:L53) -> 0 | O53: =N53/M53*100% -> #DIV/0! | P53: =SUM(Q53:V53) -> 0 | W53: =SUM(R53:V53) -> 0 | X53: =W53/#REF!*100% -> #REF! | AE53: =SUM(Z53:AD53) -> 0 | AF53: =AE53/#REF!*100% -> #REF! | AG53: =(F53-#REF!) -> #REF!
D54: 12 | M54: =SUM(G54:L54) -> 0 | N54: =SUM(H54:L54) -> 0 | O54: =N54/M54*100% -> #DIV/0! | P54: =SUM(Q54:V54) -> 0 | W54: =SUM(R54:V54) -> 0 | X54: =W54/#REF!*100% -> #REF! | AE54: =SUM(Z54:AD54) -> 0 | AF54: =AE54/#REF!*100% -> #REF! | AG54: =(F54-#REF!) -> #REF!
... D66: 24 | M66: =SUM(G66:L66) -> 0 | N66: =SUM(H66:L66) -> 0 | O66: =N66/M66*100% -> #DIV/0! | P66: =SUM(Q66:V66) -> 0 | W66: =SUM(R66:V66) -> 0 | X66: =W66/#REF!*100% -> #REF! | AE66: =SUM(Z66:AD66) -> 0 | AF66: =AE66/#REF!*100% -> #REF! | AG66: =(F66-#REF!) -> #REF!
D67: المجموع | F67: =SUM(F43:F66) -> 0 | G67: =SUM(G43:G66) -> 0 | H67: =SUM(H43:H66) -> 0 | I67: =SUM(I43:I66) -> 0 | J67: =SUM(J43:J66) -> 0 | K67: =SUM(K43:K66) -> 0 | L67: =SUM(L43:L66) -> 0 | M67: =SUM(G67:L67) -> 0 | N67: =SUM(H67:L67) -> 0 | O67: =N67/M67*100% -> #DIV/0! | P67: =SUM(Q67:V67) -> 0 | Q67: =SUM(Q43:Q66) -> 0 | R67: =SUM(R43:R66) -> 0 | S67: =SUM(S43:S66) -> 0 | T67: =SUM(T43:T66) -> 0 | U67: =SUM(U43:U66) -> 0 | V67: =SUM(V43:V66) -> 0 | W67: =SUM(R67:V67) -> 0 | X67: =W67/#REF!*100% -> #REF! | Y67: =SUM(Y43:Y66) -> 0 | Z67: =SUM(Z43:Z66) -> 0 | AA67: =SUM(AA43:AA66) -> 0 | AB67: =SUM(AB43:AB66) -> 0 | AC67: =SUM(AC43:AC66) -> 0 | AD67: =SUM(AD43:AD66) -> 0 | AE67: =SUM(Z67:AD67) -> 0 | AF67: =AE67/#REF!*100% -> #REF! | AG67: =(F67-#REF!) -> #REF!
D69: وزارة التربية
D70: الإدارة العامة لمنطقة …………………... التعليمية
D71: مدرسة :
D72: الصف ( الثالث ) | Z72: الفترة : .................
D73: الفترة : آخر العام
D74: م | E74: الصف | F74: الاجمالى | H74: فئات الدرجات | M74: عدد المتقدمين | N74: عدد الناجحين | O74: النسبة المئوية | P74: متقدم | Q74: الامتحان التحريري ( 30 ) | W74: عدد الناجحين | X74: النسبة المئوية | Y74: الدرجة النهائية ( 50 ) | AE74: عدد الناجحين | AF74: النسبة المئوية | AG74: غائب
Q75: ضعيف | R75: مقبول | S75: مقبول | T75: جيد | U75: جيدجدا | V75: ممتاز | Y75: ضعيف | Z75: مقبول | AA75: مقبول | AB75: جيد | AC75: جيدجدا | AD75: ممتاز
G76: 0 - 39.5 | H76: 40 - 49.5 | I76: 50 - 59.5 | J76: 60 - 74.5 | K76: 75 - 89.5 | L76: 90 - 100 | Q76: 0 - 14.5 | R76: 15 | S76: 15.5 - 20.5 | T76: 21 - 26.5 | U76: 27 - 29.5 | V76: 30 | Y76: 0 - 24.5 | Z76: 25 | AA76: 25.5 - 34.5 | AB76: 35 - 44.5 | AC76: 45 - 49.5 | AD76: 50
D77: 1 | M77: =SUM(G77:L77) -> 0 | N77: =SUM(H77:L77) -> 0 | O77: =N77/M77*100% -> #DIV/0! | P77: =SUM(Q77:V77) -> 0 | W77: =SUM(R77:V77) -> 0 | X77: =W77/#REF!*100% -> #REF! | AE77: =SUM(Z77:AD77) -> 0 | AF77: =AE77/#REF!*100% -> #REF! | AG77: =(F77-#REF!) -> #REF!
D78: 2 | M78: =SUM(G78:L78) -> 0 | N78: =SUM(H78:L78) -> 0 | O78: =N78/M78*100% -> #DIV/0! | P78: =SUM(Q78:V78) -> 0 | W78: =SUM(R78:V78) -> 0 | X78: =W78/#REF!*100% -> #REF! | AE78: =SUM(Z78:AD78) -> 0 | AF78: =AE78/#REF!*100% -> #REF! | AG78: =(F78-#REF!) -> #REF!
D79: 3 | M79: =SUM(G79:L79) -> 0 | N79: =SUM(H79:L79) -> 0 | O79: =N79/M79*100% -> #DIV/0! | P79: =SUM(Q79:V79) -> 0 | W79: =SUM(R79:V79) -> 0 | X79: =W79/#REF!*100% -> #REF! | AE79: =SUM(Z79:AD79) -> 0 | AF79: =AE79/#REF!*100% -> #REF! | AG79: =(F79-#REF!) -> #REF!
D80: 4 | M80: =SUM(G80:L80) -> 0 | N80: =SUM(H80:L80) -> 0 | O80: =N80/M80*100% -> #DIV/0! | P80: =SUM(Q80:V80) -> 0 | W80: =SUM(R80:V80) -> 0 | X80: =W80/#REF!*100% -> #REF! | AE80: =SUM(Z80:AD80) -> 0 | AF80: =AE80/#REF!*100% -> #REF! | AG80: =(F80-#REF!) -> #REF!
D81: 5 | M81: =SUM(G81:L81) -> 0 | N81: =SUM(H81:L81) -> 0 | O81: =N81/M81*100% -> #DIV/0! | P81: =SUM(Q81:V81) -> 0 | W81: =SUM(R81:V81) -> 0 | X81: =W81/#REF!*100% -> #REF! | AE81: =SUM(Z81:AD81) -> 0 | AF81: =AE81/#REF!*100% -> #REF! | AG81: =(F81-#REF!) -> #REF!
D82: 6 | M82: =SUM(G82:L82) -> 0 | N82: =SUM(H82:L82) -> 0 | O82: =N82/M82*100% -> #DIV/0! | P82: =SUM(Q82:V82) -> 0 | W82: =SUM(R82:V82) -> 0 | X82: =W82/#REF!*100% -> #REF! | AE82: =SUM(Z82:AD82) -> 0 | AF82: =AE82/#REF!*100% -> #REF! | AG82: =(F82-#REF!) -> #REF!
D83: 7 | M83: =SUM(G83:L83) -> 0 | N83: =SUM(H83:L83) -> 0 | O83: =N83/M83*100% -> #DIV/0! | P83: =SUM(Q83:V83) -> 0 | W83: =SUM(R83:V83) -> 0 | X83: =W83/#REF!*100% -> #REF! | AE83: =SUM(Z83:AD83) -> 0 | AF83: =AE83/#REF!*100% -> #REF! | AG83: =(F83-#REF!) -> #REF!
D84: 8 | M84: =SUM(G84:L84) -> 0 | N84: =SUM(H84:L84) -> 0 | O84: =N84/M84*100% -> #DIV/0! | P84: =SUM(Q84:V84) -> 0 | W84: =SUM(R84:V84) -> 0 | X84: =W84/#REF!*100% -> #REF! | AE84: =SUM(Z84:AD84) -> 0 | AF84: =AE84/#REF!*100% -> #REF! | AG84: =(F84-#REF!) -> #REF!
D85: 9 | M85: =SUM(G85:L85) -> 0 | N85: =SUM(H85:L85) -> 0 | O85: =N85/M85*100% -> #DIV/0! | P85: =SUM(Q85:V85) -> 0 | W85: =SUM(R85:V85) -> 0 | X85: =W85/#REF!*100% -> #REF! | AE85: =SUM(Z85:AD85) -> 0 | AF85: =AE85/#REF!*100% -> #REF! | AG85: =(F85-#REF!) -> #REF!
D86: 10 | M86: =SUM(G86:L86) -> 0 | N86: =SUM(H86:L86) -> 0 | O86: =N86/M86*100% -> #DIV/0! | P86: =SUM(Q86:V86) -> 0 | W86: =SUM(R86:V86) -> 0 | X86: =W86/#REF!*100% -> #REF! | AE86: =SUM(Z86:AD86) -> 0 | AF86: =AE86/#REF!*100% -> #REF! | AG86: =(F86-#REF!) -> #REF!
D87: 11 | M87: =SUM(G87:L87) -> 0 | N87: =SUM(H87:L87) -> 0 | O87: =N87/M87*100% -> #DIV/0! | P87: =SUM(Q87:V87) -> 0 | W87: =SUM(R87:V87) -> 0 | X87: =W87/#REF!*100% -> #REF! | AE87: =SUM(Z87:AD87) -> 0 | AF87: =AE87/#REF!*100% -> #REF! | AG87: =(F87-#REF!) -> #REF!
D88: 12 | M88: =SUM(G88:L88) -> 0 | N88: =SUM(H88:L88) -> 0 | O88: =N88/M88*100% -> #DIV/0! | P88: =SUM(Q88:V88) -> 0 | W88: =SUM(R88:V88) -> 0 | X88: =W88/#REF!*100% -> #REF! | AE88: =SUM(Z88:AD88) -> 0 | AF88: =AE88/#REF!*100% -> #REF! | AG88: =(F88-#REF!) -> #REF!
... D100: 24 | M100: =SUM(G100:L100) -> 0 | N100: =SUM(H100:L100) -> 0 | O100: =N100/M100*100% -> #DIV/0! | P100: =SUM(Q100:V100) -> 0 | W100: =SUM(R100:V100) -> 0 | X100: =W100/#REF!*100% -> #REF! | AE100: =SUM(Z100:AD100) -> 0 | AF100: =AE100/#REF!*100% -> #REF! | AG100: =(F100-#REF!) -> #REF!
D101: المجموع | F101: =SUM(F77:F100) -> 0 | G101: =SUM(G77:G100) -> 0 | H101: =SUM(H77:H100) -> 0 | I101: =SUM(I77:I100) -> 0 | J101: =SUM(J77:J100) -> 0 | K101: =SUM(K77:K100) -> 0 | L101: =SUM(L77:L100) -> 0 | M101: =SUM(G101:L101) -> 0 | N101: =SUM(H101:L101) -> 0 | O101: =N101/M101*100% -> #DIV/0! | P101: =SUM(Q101:V101) -> 0 | Q101: =SUM(Q77:Q100) -> 0 | R101: =SUM(R77:R100) -> 0 | S101: =SUM(S77:S100) -> 0 | T101: =SUM(T77:T100) -> 0 | U101: =SUM(U77:U100) -> 0 | V101: =SUM(V77:V100) -> 0 | W101: =SUM(R101:V101) -> 0 | X101: =W101/#REF!*100% -> #REF! | Y101: =SUM(Y77:Y100) -> 0 | Z101: =SUM(Z77:Z100) -> 0 | AA101: =SUM(AA77:AA100) -> 0 | AB101: =SUM(AB77:AB100) -> 0 | AC101: =SUM(AC77:AC100) -> 0 | AD101: =SUM(AD77:AD100) -> 0 | AE101: =SUM(Z101:AD101) -> 0 | AF101: =AE101/#REF!*100% -> #REF! | AG101: =(F101-#REF!) -> #REF!
D103: وزارة التربية
D104: الإدارة العامة لمنطقة …………………... التعليمية
D105: مدرسة :
D106: الصف ( الرابع ) | Z106: الفترة : .................
D107: الفترة : آخر العام
D108: م | E108: الصف | F108: الاجمالى | H108: فئات الدرجات | M108: عدد المتقدمين | N108: عدد الناجحين | O108: النسبة المئوية | P108: متقدم | Q108: الامتحان التحريري ( 30 ) | W108: عدد الناجحين | X108: النسبة المئوية | Y108: الدرجة النهائية ( 50 ) | AE108: عدد الناجحين | AF108: النسبة المئوية | AG108: غائب
Q109: ضعيف | R109: مقبول | S109: مقبول | T109: جيد | U109: جيدجدا | V109: ممتاز | Y109: ضعيف | Z109: مقبول | AA109: مقبول | AB109: جيد | AC109: جيدجدا | AD109: ممتاز
G110: 0 - 39.5 | H110: 40 - 49.5 | I110: 50 - 59.5 | J110: 60 - 74.5 | K110: 75 - 89.5 | L110: 90 - 100 | Q110: 0 - 14.5 | R110: 15 | S110: 15.5 - 20.5 | T110: 21 - 26.5 | U110: 27 - 29.5 | V110: 30 | Y110: 0 - 24.5 | Z110: 25 | AA110: 25.5 - 34.5 | AB110: 35 - 44.5 | AC110: 45 - 49.5 | AD110: 50
D111: 1 | M111: =SUM(G111:L111) -> 0 | N111: =SUM(H111:L111) -> 0 | O111: =N111/M111*100% -> #DIV/0! | P111: =SUM(Q111:V111) -> 0 | W111: =SUM(R111:V111) -> 0 | X111: =W111/#REF!*100% -> #REF! | AE111: =SUM(Z111:AD111) -> 0 | AF111: =AE111/#REF!*100% -> #REF! | AG111: =(F111-#REF!) -> #REF!
D112: 2 | M112: =SUM(G112:L112) -> 0 | N112: =SUM(H112:L112) -> 0 | O112: =N112/M112*100% -> #DIV/0! | P112: =SUM(Q112:V112) -> 0 | W112: =SUM(R112:V112) -> 0 | X112: =W112/#REF!*100% -> #REF! | AE112: =SUM(Z112:AD112) -> 0 | AF112: =AE112/#REF!*100% -> #REF! | AG112: =(F112-#REF!) -> #REF!
D113: 3 | M113: =SUM(G113:L113) -> 0 | N113: =SUM(H113:L113) -> 0 | O113: =N113/M113*100% -> #DIV/0! | P113: =SUM(Q113:V113) -> 0 | W113: =SUM(R113:V113) -> 0 | X113: =W113/#REF!*100% -> #REF! | AE113: =SUM(Z113:AD113) -> 0 | AF113: =AE113/#REF!*100% -> #REF! | AG113: =(F113-#REF!) -> #REF!
D114: 4 | M114: =SUM(G114:L114) -> 0 | N114: =SUM(H114:L114) -> 0 | O114: =N114/M114*100% -> #DIV/0! | P114: =SUM(Q114:V114) -> 0 | W114: =SUM(R114:V114) -> 0 | X114: =W114/#REF!*100% -> #REF! | AE114: =SUM(Z114:AD114) -> 0 | AF114: =AE114/#REF!*100% -> #REF! | AG114: =(F114-#REF!) -> #REF!
D115: 5 | M115: =SUM(G115:L115) -> 0 | N115: =SUM(H115:L115) -> 0 | O115: =N115/M115*100% -> #DIV/0! | P115: =SUM(Q115:V115) -> 0 | W115: =SUM(R115:V115) -> 0 | X115: =W115/#REF!*100% -> #REF! | AE115: =SUM(Z115:AD115) -> 0 | AF115: =AE115/#REF!*100% -> #REF! | AG115: =(F115-#REF!) -> #REF!
D116: 6 | M116: =SUM(G116:L116) -> 0 | N116: =SUM(H116:L116) -> 0 | O116: =N116/M116*100% -> #DIV/0! | P116: =SUM(Q116:V116) -> 0 | W116: =SUM(R116:V116) -> 0 | X116: =W116/#REF!*100% -> #REF! | AE116: =SUM(Z116:AD116) -> 0 | AF116: =AE116/#REF!*100% -> #REF! | AG116: =(F116-#REF!) -> #REF!
D117: 7 | M117: =SUM(G117:L117) -> 0 | N117: =SUM(H117:L117) -> 0 | O117: =N117/M117*100% -> #DIV/0! | P117: =SUM(Q117:V117) -> 0 | W117: =SUM(R117:V117) -> 0 | X117: =W117/#REF!*100% -> #REF! | AE117: =SUM(Z117:AD117) -> 0 | AF117: =AE117/#REF!*100% -> #REF! | AG117: =(F117-#REF!) -> #REF!
D118: 8 | M118: =SUM(G118:L118) -> 0 | N118: =SUM(H118:L118) -> 0 | O118: =N118/M118*100% -> #DIV/0! | P118: =SUM(Q118:V118) -> 0 | W118: =SUM(R118:V118) -> 0 | X118: =W118/#REF!*100% -> #REF! | AE118: =SUM(Z118:AD118) -> 0 | AF118: =AE118/#REF!*100% -> #REF! | AG118: =(F118-#REF!) -> #REF!
D119: 9 | M119: =SUM(G119:L119) -> 0 | N119: =SUM(H119:L119) -> 0 | O119: =N119/M119*100% -> #DIV/0! | P119: =SUM(Q119:V119) -> 0 | W119: =SUM(R119:V119) -> 0 | X119: =W119/#REF!*100% -> #REF! | AE119: =SUM(Z119:AD119) -> 0 | AF119: =AE119/#REF!*100% -> #REF! | AG119: =(F119-#REF!) -> #REF!
D120: 10 | M120: =SUM(G120:L120) -> 0 | N120: =SUM(H120:L120) -> 0 | O120: =N120/M120*100% -> #DIV/0! | P120: =SUM(Q120:V120) -> 0 | W120: =SUM(R120:V120) -> 0 | X120: =W120/#REF!*100% -> #REF! | AE120: =SUM(Z120:AD120) -> 0 | AF120: =AE120/#REF!*100% -> #REF! | AG120: =(F120-#REF!) -> #REF!
D121: 11 | M121: =SUM(G121:L121) -> 0 | N121: =SUM(H121:L121) -> 0 | O121: =N121/M121*100% -> #DIV/0! | P121: =SUM(Q121:V121) -> 0 | W121: =SUM(R121:V121) -> 0 | X121: =W121/#REF!*100% -> #REF! | AE121: =SUM(Z121:AD121) -> 0 | AF121: =AE121/#REF!*100% -> #REF! | AG121: =(F121-#REF!) -> #REF!
D122: 12 | M122: =SUM(G122:L122) -> 0 | N122: =SUM(H122:L122) -> 0 | O122: =N122/M122*100% -> #DIV/0! | P122: =SUM(Q122:V122) -> 0 | W122: =SUM(R122:V122) -> 0 | X122: =W122/#REF!*100% -> #REF! | AE122: =SUM(Z122:AD122) -> 0 | AF122: =AE122/#REF!*100% -> #REF! | AG122: =(F122-#REF!) -> #REF!
... D134: 24 | M134: =SUM(G134:L134) -> 0 | N134: =SUM(H134:L134) -> 0 | O134: =N134/M134*100% -> #DIV/0! | P134: =SUM(Q134:V134) -> 0 | W134: =SUM(R134:V134) -> 0 | X134: =W134/#REF!*100% -> #REF! | AE134: =SUM(Z134:AD134) -> 0 | AF134: =AE134/#REF!*100% -> #REF! | AG134: =(F134-#REF!) -> #REF!
D135: المجموع | F135: =SUM(F111:F134) -> 0 | G135: =SUM(G111:G134) -> 0 | H135: =SUM(H111:H134) -> 0 | I135: =SUM(I111:I134) -> 0 | J135: =SUM(J111:J134) -> 0 | K135: =SUM(K111:K134) -> 0 | L135: =SUM(L111:L134) -> 0 | M135: =SUM(G135:L135) -> 0 | N135: =SUM(H135:L135) -> 0 | O135: =N135/M135*100% -> #DIV/0! | P135: =SUM(Q135:V135) -> 0 | Q135: =SUM(Q111:Q134) -> 0 | R135: =SUM(R111:R134) -> 0 | S135: =SUM(S111:S134) -> 0 | T135: =SUM(T111:T134) -> 0 | U135: =SUM(U111:U134) -> 0 | V135: =SUM(V111:V134) -> 0 | W135: =SUM(R135:V135) -> 0 | X135: =W135/#REF!*100% -> #REF! | Y135: =SUM(Y111:Y134) -> 0 | Z135: =SUM(Z111:Z134) -> 0 | AA135: =SUM(AA111:AA134) -> 0 | AB135: =SUM(AB111:AB134) -> 0 | AC135: =SUM(AC111:AC134) -> 0 | AD135: =SUM(AD111:AD134) -> 0 | AE135: =SUM(Z135:AD135) -> 0 | AF135: =AE135/#REF!*100% -> #REF! | AG135: =(F135-#REF!) -> #REF!
D139: وزارة التربية
D140: الإدارة العامة لمنطقة …………………... التعليمية
D141: مدرسة :
D142: الصف ( الخامس ) | Z142: الفترة : .................
D143: الفترة : آخر العام
D144: م | E144: الصف | F144: الاجمالى | G144: فئات الدرجات | M144: عدد المتقدمين | N144: عدد الناجحين | O144: النسبة المئوية | P144: متقدم | Q144: الامتحان التحريري ( 30 ) | W144: عدد الناجحين | X144: النسبة المئوية | Y144: الدرجة النهائية ( 50 ) | AE144: عدد الناجحين | AF144: النسبة المئوية | AG144: غائب
Q145: ضعيف | R145: مقبول | S145: مقبول | T145: جيد | U145: جيدجدا | V145: ممتاز | Y145: ضعيف | Z145: مقبول | AA145: مقبول | AB145: جيد | AC145: جيدجدا | AD145: ممتاز
G146: 0 - 39.5 | H146: 40 - 49.5 | I146: 50 - 59.5 | J146: 60 - 74.5 | K146: 75 - 89.5 | L146: 90 - 100 | Q146: 0 - 14.5 | R146: 15 | S146: 15.5 - 20.5 | T146: 21 - 26.5 | U146: 27 - 29.5 | V146: 30 | Y146: 0 - 24.5 | Z146: 25 | AA146: 25.5 - 34.5 | AB146: 35 - 44.5 | AC146: 45 - 49.5 | AD146: 50
D147: 1 | M147: =SUM(G147:L147) -> 0 | N147: =SUM(H147:L147) -> 0 | O147: =N147/M147*100% -> #DIV/0! | P147: =SUM(Q147:V147) -> 0 | W147: =SUM(R147:V147) -> 0 | X147: =W147/#REF!*100% -> #REF! | AE147: =SUM(Z147:AD147) -> 0 | AF147: =AE147/#REF!*100% -> #REF! | AG147: =(F147-#REF!) -> #REF!
D148: 2 | M148: =SUM(G148:L148) -> 0 | N148: =SUM(H148:L148) -> 0 | O148: =N148/M148*100% -> #DIV/0! | P148: =SUM(Q148:V148) -> 0 | W148: =SUM(R148:V148) -> 0 | X148: =W148/#REF!*100% -> #REF! | AE148: =SUM(Z148:AD148) -> 0 | AF148: =AE148/#REF!*100% -> #REF! | AG148: =(F148-#REF!) -> #REF!
D149: 3 | M149: =SUM(G149:L149) -> 0 | N149: =SUM(H149:L149) -> 0 | O149: =N149/M149*100% -> #DIV/0! | P149: =SUM(Q149:V149) -> 0 | W149: =SUM(R149:V149) -> 0 | X149: =W149/#REF!*100% -> #REF! | AE149: =SUM(Z149:AD149) -> 0 | AF149: =AE149/#REF!*100% -> #REF! | AG149: =(F149-#REF!) -> #REF!
D150: 4 | M150: =SUM(G150:L150) -> 0 | N150: =SUM(H150:L150) -> 0 | O150: =N150/M150*100% -> #DIV/0! | P150: =SUM(Q150:V150) -> 0 | W150: =SUM(R150:V150) -> 0 | X150: =W150/#REF!*100% -> #REF! | AE150: =SUM(Z150:AD150) -> 0 | AF150: =AE150/#REF!*100% -> #REF! | AG150: =(F150-#REF!) -> #REF!
...

Sheet تجميع  آخر العام 
D1: وزارة التربية | N1: العام الدراسي 2020/ 2021
D2: الإدارة العامة لمنطقة …………………... التعليمية
D4: الصف ( الأول ) | Z4: الفترة : .................
D5: الفترة : آخر العام
D6: م | F6: الاجمالى | G6: فئات الدرجات | M6: عدد المتقدمين | N6: عدد الناجحين | O6: النسبة المئوية | P6: متقدم | Q6: الامتحان التحريري ( 30 ) | W6: عدد الناجحين | X6: النسبة المئوية | Y6: الدرجة النهائية ( 50 ) | AE6: عدد الناجحين | AF6: النسبة المئوية | AG6: غائب
Q7: ضعيف | R7: مقبول | S7: مقبول | T7: جيد | U7: جيدجدا | V7: ممتاز | Y7: ضعيف | Z7: مقبول | AA7: مقبول | AB7: جيد | AC7: جيدجدا | AD7: ممتاز
G8: 0 - 39.5 | H8: 40 - 49.5 | I8: 50 - 59.5 | J8: 60 - 74.5 | K8: 75 - 89.5 | L8: 90 - 100 | Q8: 0 - 14.5 | R8: 15 | S8: 15.5 - 20.5 | T8: 21 - 26.5 | U8: 27 - 29.5 | V8: 30 | Y8: 0 - 24.5 | Z8: 25 | AA8: 25.5 - 34.5 | AB8: 35 - 44.5 | AC8: 45 - 49.5 | AD8: 50
D9: 1 | E9: البنين | G9: ='المرحلة الابتدائية بنين'!G33 -> 0 | H9: ='المرحلة الابتدائية بنين'!H33 -> 0 | I9: ='المرحلة الابتدائية بنين'!I33 -> 0 | J9: ='المرحلة الابتدائية بنين'!J33 -> 0 | K9: ='المرحلة الابتدائية بنين'!K33 -> 0 | L9: ='المرحلة الابتدائية بنين'!L33 -> 0 | M9: ='المرحلة الابتدائية بنين'!M33 -> 0 | N9: ='المرحلة الابتدائية بنين'!N33 -> 0 | O9: ='المرحلة الابتدائية بنين'!O33 -> #DIV/0! | P9: =SUM(Q9:V9) -> 0 | W9: =SUM(R9:V9) -> 0 | X9: =W9/#REF!*100% -> #REF! | AE9: =SUM(Z9:AD9) -> 0 | AF9: =AE9/#REF!*100% -> #REF! | AG9: =(F9-#REF!) -> #REF!
D10: 2 | E10: البنات | G10: ='المرحلة الابتدائية بنات'!G33 -> 0 | H10: ='المرحلة الابتدائية بنات'!H33 -> 0 | I10: ='المرحلة الابتدائية بنات'!I33 -> 0 | J10: ='المرحلة الابتدائية بنات'!J33 -> 0 | K10: ='المرحلة الابتدائية بنات'!K33 -> 0 | L10: ='المرحلة الابتدائية بنات'!L33 -> 0 | M10: ='المرحلة الابتدائية بنات'!M33 -> 0 | N10: ='المرحلة الابتدائية بنات'!N33 -> 0 | O10: ='المرحلة الابتدائية بنات'!O33 -> #DIV/0! | P10: =SUM(Q10:V10) -> 0 | W10: =SUM(R10:V10) -> 0 | X10: =W10/#REF!*100% -> #REF! | AE10: =SUM(Z10:AD10) -> 0 | AF10: =AE10/#REF!*100% -> #REF! | AG10: =(F10-#REF!) -> #REF!
D11: المجموع | F11: =SUM(F9:F10) -> 0 | G11: =SUM(G9:G10) -> 0 | H11: =SUM(H9:H10) -> 0 | I11: =SUM(I9:I10) -> 0 | J11: =SUM(J9:J10) -> 0 | K11: =SUM(K9:K10) -> 0 | L11: =SUM(L9:L10) -> 0 | M11: =SUM(M9:M10) -> 0 | N11: =SUM(N9:N10) -> 0 | O11: =N11/M11*100% -> #DIV/0! | P11: =SUM(Q11:V11) -> 0 | Q11: =SUM(Q9:Q10) -> 0 | R11: =SUM(R9:R10) -> 0 | S11: =SUM(S9:S10) -> 0 | T11: =SUM(T9:T10) -> 0 | U11: =SUM(U9:U10) -> 0 | V11: =SUM(V9:V10) -> 0 | W11: =SUM(R11:V11) -> 0 | X11: =W11/#REF!*100% -> #REF! | Y11: =SUM(Y9:Y10) -> 0 | Z11: =SUM(Z9:Z10) -> 0 | AA11: =SUM(AA9:AA10) -> 0 | AB11: =SUM(AB9:AB10) -> 0 | AC11: =SUM(AC9:AC10) -> 0 | AD11: =SUM(AD9:AD10) -> 0 | AE11: =SUM(Z11:AD11) -> 0 | AF11: =AE11/#REF!*100% -> #REF! | AG11: =(F11-#REF!) -> #REF!
D13: وزارة التربية | N13: العام الدراسي 2020/ 2021
D14: الإدارة العامة لمنطقة …………………... التعليمية
D16: الصف ( الثاني ) | Z16: الفترة : .................
D17: الفترة : آخر العام
D18: م | E18: الصف | F18: الاجمالى | G18: فئات الدرجات | M18: عدد المتقدمين | N18: عدد الناجحين | O18: النسبة المئوية | P18: متقدم | Q18: الامتحان التحريري ( 30 ) | W18: عدد الناجحين | X18: النسبة المئوية | Y18: الدرجة النهائية ( 50 ) | AE18: عدد الناجحين | AF18: النسبة المئوية | AG18: غائب
Q19: ضعيف | R19: مقبول | S19: مقبول | T19: جيد | U19: جيدجدا | V19: ممتاز | Y19: ضعيف | Z19: مقبول | AA19: مقبول | AB19: جيد | AC19: جيدجدا | AD19: ممتاز
G20: 0 - 39.5 | H20: 40 - 49.5 | I20: 50 - 59.5 | J20: 60 - 74.5 | K20: 75 - 89.5 | L20: 90 - 100 | Q20: 0 - 14.5 | R20: 15 | S20: 15.5 - 20.5 | T20: 21 - 26.5 | U20: 27 - 29.5 | V20: 30 | Y20: 0 - 24.5 | Z20: 25 | AA20: 25.5 - 34.5 | AB20: 35 - 44.5 | AC20: 45 - 49.5 | AD20: 50
D21: 1 | E21: البنين | G21: ='المرحلة الابتدائية بنين'!G67 -> 0 | H21: ='المرحلة الابتدائية بنين'!H67 -> 0 | I21: ='المرحلة الابتدائية بنين'!I67 -> 0 | J21: ='المرحلة الابتدائية بنين'!J67 -> 0 | K21: ='المرحلة الابتدائية بنين'!K67 -> 0 | L21: ='المرحلة الابتدائية بنين'!L67 -> 0 | M21: ='المرحلة الابتدائية بنين'!M67 -> 0 | N21: ='المرحلة الابتدائية بنين'!N67 -> 0 | O21: ='المرحلة الابتدائية بنين'!O67 -> #DIV/0! | P21: =SUM(Q21:V21) -> 0 | W21: =SUM(R21:V21) -> 0 | X21: =W21/#REF!*100% -> #REF! | AE21: =SUM(Z21:AD21) -> 0 | AF21: =AE21/#REF!*100% -> #REF! | AG21: =(F21-#REF!) -> #REF!
D22: 2 | E22: البنات | G22: ='المرحلة الابتدائية بنات'!G67 -> 0 | H22: ='المرحلة الابتدائية بنات'!H67 -> 0 | I22: ='المرحلة الابتدائية بنات'!I67 -> 0 | J22: ='المرحلة الابتدائية بنات'!J67 -> 0 | K22: ='المرحلة الابتدائية بنات'!K67 -> 0 | L22: ='المرحلة الابتدائية بنات'!L67 -> 0 | M22: ='المرحلة الابتدائية بنات'!M67 -> 0 | N22: ='المرحلة الابتدائية بنات'!N67 -> 0 | O22: ='المرحلة الابتدائية بنات'!O67 -> #DIV/0! | P22: =SUM(Q22:V22) -> 0 | W22: =SUM(R22:V22) -> 0 | X22: =W22/#REF!*100% -> #REF! | AE22: =SUM(Z22:AD22) -> 0 | AF22: =AE22/#REF!*100% -> #REF! | AG22: =(F22-#REF!) -> #REF!
D23: المجموع | F23: =SUM(F21:F22) -> 0 | G23: =SUM(G21:G22) -> 0 | H23: =SUM(H21:H22) -> 0 | I23: =SUM(I21:I22) -> 0 | J23: =SUM(J21:J22) -> 0 | K23: =SUM(K21:K22) -> 0 | L23: =SUM(L21:L22) -> 0 | M23: =SUM(M21:M22) -> 0 | N23: =SUM(N21:N22) -> 0 | O23: =N23/M23*100% -> #DIV/0! | P23: =SUM(Q23:V23) -> 0 | Q23: =SUM(Q21:Q22) -> 0 | R23: =SUM(R21:R22) -> 0 | S23: =SUM(S21:S22) -> 0 | T23: =SUM(T21:T22) -> 0 | U23: =SUM(U21:U22) -> 0 | V23: =SUM(V21:V22) -> 0 | W23: =SUM(R23:V23) -> 0 | X23: =W23/#REF!*100% -> #REF! | Y23: =SUM(Y21:Y22) -> 0 | Z23: =SUM(Z21:Z22) -> 0 | AA23: =SUM(AA21:AA22) -> 0 | AB23: =SUM(AB21:AB22) -> 0 | AC23: =SUM(AC21:AC22) -> 0 | AD23: =SUM(AD21:AD22) -> 0 | AE23: =SUM(Z23:AD23) -> 0 | AF23: =AE23/#REF!*100% -> #REF! | AG23: =(F23-#REF!) -> #REF!
D24: وزارة التربية | N24: العام الدراسي 2020/ 2021
D25: الإدارة العامة لمنطقة …………………... التعليمية
D27: الصف ( الثالث ) | Z27: الفترة : .................
D28: الفترة : آخر العام
D29: م | F29: الاجمالى | G29: فئات الدرجات | M29: عدد المتقدمين | N29: عدد الناجحين | O29: النسبة المئوية | P29: متقدم | Q29: الامتحان التحريري ( 30 ) | W29: عدد الناجحين | X29: النسبة المئوية | Y29: الدرجة النهائية ( 50 ) | AE29: عدد الناجحين | AF29: النسبة المئوية | AG29: غائب
Q30: ضعيف | R30: مقبول | S30: مقبول | T30: جيد | U30: جيدجدا | V30: ممتاز | Y30: ضعيف | Z30: مقبول | AA30: مقبول | AB30: جيد | AC30: جيدجدا | AD30: ممتاز
G31: 0 - 39.5 | H31: 40 - 49.5 | I31: 50 - 59.5 | J31: 60 - 74.5 | K31: 75 - 89.5 | L31: 90 - 100 | Q31: 0 - 14.5 | R31: 15 | S31: 15.5 - 20.5 | T31: 21 - 26.5 | U31: 27 - 29.5 | V31: 30 | Y31: 0 - 24.5 | Z31: 25 | AA31: 25.5 - 34.5 | AB31: 35 - 44.5 | AC31: 45 - 49.5 | AD31: 50
D32: 1 | E32: البنين | G32: ='المرحلة الابتدائية بنين'!G101 -> 0 | H32: ='المرحلة الابتدائية بنين'!H101 -> 0 | I32: ='المرحلة الابتدائية بنين'!I101 -> 0 | J32: ='المرحلة الابتدائية بنين'!J101 -> 0 | K32: ='المرحلة الابتدائية بنين'!K101 -> 0 | L32: ='المرحلة الابتدائية بنين'!L101 -> 0 | M32: ='المرحلة الابتدائية بنين'!M101 -> 0 | N32: ='المرحلة الابتدائية بنين'!N101 -> 0 | O32: ='المرحلة الابتدائية بنين'!O101 -> #DIV/0! | P32: =SUM(Q32:V32) -> 0 | W32: =SUM(R32:V32) -> 0 | X32: =W32/#REF!*100% -> #REF! | AE32: =SUM(Z32:AD32) -> 0 | AF32: =AE32/#REF!*100% -> #REF! | AG32: =(F32-#REF!) -> #REF!
D33: 2 | E33: البنات | G33: ='المرحلة الابتدائية بنات'!G101 -> 0 | H33: ='المرحلة الابتدائية بنات'!H101 -> 0 | I33: ='المرحلة الابتدائية بنات'!I101 -> 0 | J33: ='المرحلة الابتدائية بنات'!J101 -> 0 | K33: ='المرحلة الابتدائية بنات'!K101 -> 0 | L33: ='المرحلة الابتدائية بنات'!L101 -> 0 | M33: ='المرحلة الابتدائية بنات'!M101 -> 0 | N33: ='المرحلة الابتدائية بنات'!N101 -> 0 | O33: ='المرحلة الابتدائية بنات'!O101 -> #DIV/0! | P33: =SUM(Q33:V33) -> 0 | W33: =SUM(R33:V33) -> 0 | X33: =W33/#REF!*100% -> #REF! | AE33: =SUM(Z33:AD33) -> 0 | AF33: =AE33/#REF!*100% -> #REF! | AG33: =(F33-#REF!) -> #REF!
D34: المجموع | F34: =SUM(F32:F33) -> 0 | G34: =SUM(G32:G33) -> 0 | H34: =SUM(H32:H33) -> 0 | I34: =SUM(I32:I33) -> 0 | J34: =SUM(J32:J33) -> 0 | K34: =SUM(K32:K33) -> 0 | L34: =SUM(L32:L33) -> 0 | M34: =SUM(M32:M33) -> 0 | N34: =SUM(N32:N33) -> 0 | O34: =N34/M34*100% -> #DIV/0! | P34: =SUM(Q34:V34) -> 0 | Q34: =SUM(Q32:Q33) -> 0 | R34: =SUM(R32:R33) -> 0 | S34: =SUM(S32:S33) -> 0 | T34: =SUM(T32:T33) -> 0 | U34: =SUM(U32:U33) -> 0 | V34: =SUM(V32:V33) -> 0 | W34: =SUM(R34:V34) -> 0 | X34: =W34/#REF!*100% -> #REF! | Y34: =SUM(Y32:Y33) -> 0 | Z34: =SUM(Z32:Z33) -> 0 | AA34: =SUM(AA32:AA33) -> 0 | AB34: =SUM(AB32:AB33) -> 0 | AC34: =SUM(AC32:AC33) -> 0 | AD34: =SUM(AD32:AD33) -> 0 | AE34: =SUM(Z34:AD34) -> 0 | AF34: =AE34/#REF!*100% -> #REF! | AG34: =(F34-#REF!) -> #REF!
D37: وزارة التربية | N37: العام الدراسي 2020/ 2021
D38: الإدارة العامة لمنطقة …………………... التعليمية
D40: الصف ( الرابع ) | Z40: الفترة : .................
D41: الفترة : آخر العام
D42: م | F42: الاجمالى | G42: فئات الدرجات | M42: عدد المتقدمين | N42: عدد الناجحين | O42: النسبة المئوية | P42: متقدم | Q42: الامتحان التحريري ( 30 ) | W42: عدد الناجحين | X42: النسبة المئوية | Y42: الدرجة النهائية ( 50 ) | AE42: عدد الناجحين | AF42: النسبة المئوية | AG42: غائب
Q43: ضعيف | R43: مقبول | S43: مقبول | T43: جيد | U43: جيدجدا | V43: ممتاز | Y43: ضعيف | Z43: مقبول | AA43: مقبول | AB43: جيد | AC43: جيدجدا | AD43: ممتاز
G44: 0 - 39.5 | H44: 40 - 49.5 | I44: 50 - 59.5 | J44: 60 - 74.5 | K44: 75 - 89.5 | L44: 90 - 100 | Q44: 0 - 14.5 | R44: 15 | S44: 15.5 - 20.5 | T44: 21 - 26.5 | U44: 27 - 29.5 | V44: 30 | Y44: 0 - 24.5 | Z44: 25 | AA44: 25.5 - 34.5 | AB44: 35 - 44.5 | AC44: 45 - 49.5 | AD44: 50
D45: 1 | E45: البنين | G45: ='المرحلة الابتدائية بنين'!G135 -> 0 | H45: ='المرحلة الابتدائية بنين'!H135 -> 0 | I45: ='المرحلة الابتدائية بنين'!I135 -> 0 | J45: ='المرحلة الابتدائية بنين'!J135 -> 0 | K45: ='المرحلة الابتدائية بنين'!K135 -> 0 | L45: ='المرحلة الابتدائية بنين'!L135 -> 0 | M45: ='المرحلة الابتدائية بنين'!M135 -> 0 | N45: ='المرحلة الابتدائية بنين'!N135 -> 0 | O45: ='المرحلة الابتدائية بنين'!O135 -> #DIV/0! | P45: =SUM(Q45:V45) -> 0 | W45: =SUM(R45:V45) -> 0 | X45: =W45/#REF!*100% -> #REF! | AE45: =SUM(Z45:AD45) -> 0 | AF45: =AE45/#REF!*100% -> #REF! | AG45: =(F45-#REF!) -> #REF!
D46: 2 | E46: البنات | G46: ='المرحلة الابتدائية بنات'!G135 -> 0 | H46: ='المرحلة الابتدائية بنات'!H135 -> 0 | I46: ='المرحلة الابتدائية بنات'!I135 -> 0 | J46: ='المرحلة الابتدائية بنات'!J135 -> 0 | K46: ='المرحلة الابتدائية بنات'!K135 -> 0 | L46: ='المرحلة الابتدائية بنات'!L135 -> 0 | M46: ='المرحلة الابتدائية بنات'!M135 -> 0 | N46: ='المرحلة الابتدائية بنات'!N135 -> 0 | O46: ='المرحلة الابتدائية بنات'!O135 -> #DIV/0! | P46: =SUM(Q46:V46) -> 0 | W46: =SUM(R46:V46) -> 0 | X46: =W46/#REF!*100% -> #REF! | AE46: =SUM(Z46:AD46) -> 0 | AF46: =AE46/#REF!*100% -> #REF! | AG46: =(F46-#REF!) -> #REF!
D47: المجموع | F47: =SUM(F45:F46) -> 0 | G47: =SUM(G45:G46) -> 0 | H47: =SUM(H45:H46) -> 0 | I47: =SUM(I45:I46) -> 0 | J47: =SUM(J45:J46) -> 0 | K47: =SUM(K45:K46) -> 0 | L47: =SUM(L45:L46) -> 0 | M47: =SUM(M45:M46) -> 0 | N47: =SUM(N45:N46) -> 0 | O47: =N47/M47*100% -> #DIV/0! | P47: =SUM(Q47:V47) -> 0 | Q47: =SUM(Q45:Q46) -> 0 | R47: =SUM(R45:R46) -> 0 | S47: =SUM(S45:S46) -> 0 | T47: =SUM(T45:T46) -> 0 | U47: =SUM(U45:U46) -> 0 | V47: =SUM(V45:V46) -> 0 | W47: =SUM(R47:V47) -> 0 | X47: =W47/#REF!*100% -> #REF! | Y47: =SUM(Y45:Y46) -> 0 | Z47: =SUM(Z45:Z46) -> 0 | AA47: =SUM(AA45:AA46) -> 0 | AB47: =SUM(AB45:AB46) -> 0 | AC47: =SUM(AC45:AC46) -> 0 | AD47: =SUM(AD45:AD46) -> 0 | AE47: =SUM(Z47:AD47) -> 0 | AF47: =AE47/#REF!*100% -> #REF! | AG47: =(F47-#REF!) -> #REF!
D48: وزارة التربية | N48: العام الدراسي 2020/ 2021
D49: الإدارة العامة لمنطقة …………………... التعليمية
D51: الصف ( الخامس ) | Z51: الفترة : .................
D52: الفترة : آخر العام
D53: م | F53: الاجمالى | G53: فئات الدرجات | M53: عدد المتقدمين | N53: عدد الناجحين | O53: النسبة المئوية | P53: متقدم | Q53: الامتحان التحريري ( 30 ) | W53: عدد الناجحين | X53: النسبة المئوية | Y53: الدرجة النهائية ( 50 ) | AE53: عدد الناجحين | AF53: النسبة المئوية | AG53: غائب
Q54: ضعيف | R54: مقبول | S54: مقبول | T54: جيد | U54: جيدجدا | V54: ممتاز | Y54: ضعيف | Z54: مقبول | AA54: مقبول | AB54: جيد | AC54: جيدجدا | AD54: ممتاز
G55: 0 - 39.5 | H55: 40 - 49.5 | I55: 50 - 59.5 | J55: 60 - 74.5 | K55: 75 - 89.5 | L55: 90 - 100 | Q55: 0 - 14.5 | R55: 15 | S55: 15.5 - 20.5 | T55: 21 - 26.5 | U55: 27 - 29.5 | V55: 30 | Y55: 0 - 24.5 | Z55: 25 | AA55: 25.5 - 34.5 | AB55: 35 - 44.5 | AC55: 45 - 49.5 | AD55: 50
D56: 1 | E56: البنين | G56: ='المرحلة الابتدائية بنين'!G171 -> 0 | H56: ='المرحلة الابتدائية بنين'!H171 -> 0 | I56: ='المرحلة الابتدائية بنين'!I171 -> 0 | J56: ='المرحلة الابتدائية بنين'!J171 -> 0 | K56: ='المرحلة الابتدائية بنين'!K171 -> 0 | L56: ='المرحلة الابتدائية بنين'!L171 -> 0 | M56: ='المرحلة الابتدائية بنين'!M171 -> 0 | N56: ='المرحلة الابتدائية بنين'!N171 -> 0 | O56: ='المرحلة الابتدائية بنين'!O171 -> #DIV/0! | P56: =SUM(Q56:V56) -> 0 | W56: =SUM(R56:V56) -> 0 | X56: =W56/#REF!*100% -> #REF! | AE56: =SUM(Z56:AD56) -> 0 | AF56: =AE56/#REF!*100% -> #REF! | AG56: =(F56-#REF!) -> #REF!
D57: 2 | E57: البنات | G57: ='المرحلة الابتدائية بنات'!G171 -> 0 | H57: ='المرحلة الابتدائية بنات'!H171 -> 0 | I57: ='المرحلة الابتدائية بنات'!I171 -> 0 | J57: ='المرحلة الابتدائية بنات'!J171 -> 0 | K57: ='المرحلة الابتدائية بنات'!K171 -> 0 | L57: ='المرحلة الابتدائية بنات'!L171 -> 0 | M57: ='المرحلة الابتدائية بنات'!M171 -> 0 | N57: ='المرحلة الابتدائية بنات'!N171 -> 0 | O57: ='المرحلة الابتدائية بنات'!O171 -> #DIV/0! | P57: =SUM(Q57:V57) -> 0 | W57: =SUM(R57:V57) -> 0 | X57: =W57/#REF!*100% -> #REF! | AE57: =SUM(Z57:AD57) -> 0 | AF57: =AE57/#REF!*100% -> #REF! | AG57: =(F57-#REF!) -> #REF!
D58: المجموع | F58: =SUM(F56:F57) -> 0 | G58: =SUM(G56:G57) -> 0 | H58: =SUM(H56:H57) -> 0 | I58: =SUM(I56:I57) -> 0 | J58: =SUM(J56:J57) -> 0 | K58: =SUM(K56:K57) -> 0 | L58: =SUM(L56:L57) -> 0 | M58: =SUM(M56:M57) -> 0 | N58: =SUM(N56:N57) -> 0 | O58: =N58/M58*100% -> #DIV/0! | P58: =SUM(Q58:V58) -> 0 | Q58: =SUM(Q56:Q57) -> 0 | R58: =SUM(R56:R57) -> 0 | S58: =SUM(S56:S57) -> 0 | T58: =SUM(T56:T57) -> 0 | U58: =SUM(U56:U57) -> 0 | V58: =SUM(V56:V57) -> 0 | W58: =SUM(R58:V58) -> 0 | X58: =W58/#REF!*100% -> #REF! | Y58: =SUM(Y56:Y57) -> 0 | Z58: =SUM(Z56:Z57) -> 0 | AA58: =SUM(AA56:AA57) -> 0 | AB58: =SUM(AB56:AB57) -> 0 | AC58: =SUM(AC56:AC57) -> 0 | AD58: =SUM(AD56:AD57) -> 0 | AE58: =SUM(Z58:AD58) -> 0 | AF58: =AE58/#REF!*100% -> #REF! | AG58: =(F58-#REF!) -> #REF!
